BEGIN:VCALENDAR
VERSION:2.0
PRODID:-//EXSA - ECPv6.14.2//NONSGML v1.0//EN
CALSCALE:GREGORIAN
METHOD:PUBLISH
X-WR-CALNAME:EXSA
X-ORIGINAL-URL:https://www.exsa.co.za
X-WR-CALDESC:Events for EXSA
REFRESH-INTERVAL;VALUE=DURATION:PT1H
X-Robots-Tag:noindex
X-PUBLISHED-TTL:PT1H
BEGIN:VTIMEZONE
TZID:Africa/Johannesburg
BEGIN:STANDARD
TZOFFSETFROM:+0200
TZOFFSETTO:+0200
TZNAME:SAST
DTSTART:20230101T000000
END:STANDARD
END:VTIMEZONE
BEGIN:VEVENT
DTSTART;VALUE=DATE:20230728
DTEND;VALUE=DATE:20230807
DTSTAMP:20260424T032041
CREATED:20230726T122540Z
LAST-MODIFIED:20230726T122759Z
UID:1148-1690502400-1691366399@www.exsa.co.za
SUMMARY:Netball World Cup 2023
DESCRIPTION:
URL:https://www.exsa.co.za/event/netball-world-cup-2023/
LOCATION:Cape Town\, Cape Town\, South Africa
END:VEVENT
END:VCALENDAR