BEGIN:VCALENDAR
VERSION:2.0
PRODID:-//EXSA - ECPv6.14.2//NONSGML v1.0//EN
CALSCALE:GREGORIAN
METHOD:PUBLISH
X-WR-CALNAME:EXSA
X-ORIGINAL-URL:https://www.exsa.co.za
X-WR-CALDESC:Events for EXSA
REFRESH-INTERVAL;VALUE=DURATION:PT1H
X-Robots-Tag:noindex
X-PUBLISHED-TTL:PT1H
BEGIN:VTIMEZONE
TZID:Africa/Johannesburg
BEGIN:STANDARD
TZOFFSETFROM:+0200
TZOFFSETTO:+0200
TZNAME:SAST
DTSTART:20250101T000000
END:STANDARD
END:VTIMEZONE
BEGIN:VEVENT
DTSTART;TZID=Africa/Johannesburg:20250617T080000
DTEND;TZID=Africa/Johannesburg:20250620T170000
DTSTAMP:20260420T113653
CREATED:20250307T080112Z
LAST-MODIFIED:20250307T080112Z
UID:3720-1750147200-1750438800@www.exsa.co.za
SUMMARY:Africa Energy Forum 2025 (AEF)
DESCRIPTION:
URL:https://www.exsa.co.za/event/africa-energy-forum-2025-aef/
LOCATION:Cape Town\, Cape Town\, South Africa
END:VEVENT
BEGIN:VEVENT
DTSTART;VALUE=DATE:20250617
DTEND;VALUE=DATE:20250620
DTSTAMP:20260420T113653
CREATED:20250318T074809Z
LAST-MODIFIED:20250318T074809Z
UID:3940-1750118400-1750377599@www.exsa.co.za
SUMMARY:Transport Evolution Africa Forum & Expo
DESCRIPTION:
URL:https://www.exsa.co.za/event/transport-evolution-africa-forum-expo/
LOCATION:Gallagher\, South Africa
END:VEVENT
BEGIN:VEVENT
DTSTART;VALUE=DATE:20250616
DTEND;VALUE=DATE:20250619
DTSTAMP:20260420T113653
CREATED:20250307T080223Z
LAST-MODIFIED:20250307T080223Z
UID:3722-1750032000-1750291199@www.exsa.co.za
SUMMARY:OTT Conference 2025 (On Think Tanks)
DESCRIPTION:
URL:https://www.exsa.co.za/event/ott-conference-2025-on-think-tanks/
LOCATION:Johannesburg\, Johannesburg\, South Africa
END:VEVENT
BEGIN:VEVENT
DTSTART;VALUE=DATE:20250612
DTEND;VALUE=DATE:20250613
DTSTAMP:20260420T113653
CREATED:20250318T074633Z
LAST-MODIFIED:20250318T074633Z
UID:3938-1749686400-1749772799@www.exsa.co.za
SUMMARY:Sales Summit
DESCRIPTION:
URL:https://www.exsa.co.za/event/sales-summit/
LOCATION:Johannesburg\, Johannesburg\, South Africa
END:VEVENT
BEGIN:VEVENT
DTSTART;VALUE=DATE:20250611
DTEND;VALUE=DATE:20250614
DTSTAMP:20260420T113653
CREATED:20250307T075223Z
LAST-MODIFIED:20250307T075223Z
UID:3701-1749600000-1749859199@www.exsa.co.za
SUMMARY:AviaDev
DESCRIPTION:
URL:https://www.exsa.co.za/event/aviadev/
LOCATION:Tanzania\, Tanzania\, United Republic of
END:VEVENT
BEGIN:VEVENT
DTSTART;VALUE=DATE:20250611
DTEND;VALUE=DATE:20250613
DTSTAMP:20260420T113653
CREATED:20250318T074552Z
LAST-MODIFIED:20250318T074552Z
UID:3936-1749600000-1749772799@www.exsa.co.za
SUMMARY:Infrastructure Africa Exhibition
DESCRIPTION:
URL:https://www.exsa.co.za/event/infrastructure-africa-exhibition/
LOCATION:Sandton
END:VEVENT
BEGIN:VEVENT
DTSTART;VALUE=DATE:20250611
DTEND;VALUE=DATE:20250613
DTSTAMP:20260420T113653
CREATED:20250307T080029Z
LAST-MODIFIED:20250307T080029Z
UID:3718-1749600000-1749772799@www.exsa.co.za
SUMMARY:The Hotel & Hospitality Show 2025
DESCRIPTION:
URL:https://www.exsa.co.za/event/the-hotel-hospitality-show-2025/
LOCATION:CTICC\, Cape Town\, South Africa
END:VEVENT
BEGIN:VEVENT
DTSTART;VALUE=DATE:20250610
DTEND;VALUE=DATE:20250613
DTSTAMP:20260420T113653
CREATED:20250318T074458Z
LAST-MODIFIED:20250318T074458Z
UID:3934-1749513600-1749772799@www.exsa.co.za
SUMMARY:Africa Food Show
DESCRIPTION:
URL:https://www.exsa.co.za/event/africa-food-show/
LOCATION:CTICC\, Cape Town\, South Africa
END:VEVENT
BEGIN:VEVENT
DTSTART;VALUE=DATE:20250610
DTEND;VALUE=DATE:20250613
DTSTAMP:20260420T113653
CREATED:20250307T075944Z
LAST-MODIFIED:20250307T075944Z
UID:3716-1749513600-1749772799@www.exsa.co.za
SUMMARY:SAITEX / AB7
DESCRIPTION:
URL:https://www.exsa.co.za/event/saitex-ab7/
LOCATION:CTICC\, Cape Town\, South Africa
END:VEVENT
BEGIN:VEVENT
DTSTART;VALUE=DATE:20250608
DTEND;VALUE=DATE:20250612
DTSTAMP:20260420T113653
CREATED:20250307T075828Z
LAST-MODIFIED:20250307T075828Z
UID:3714-1749340800-1749686399@www.exsa.co.za
SUMMARY:SAPICS 2025 Conference
DESCRIPTION:
URL:https://www.exsa.co.za/event/sapics-2025-conference/
LOCATION:CTICC\, Cape Town\, South Africa
END:VEVENT
BEGIN:VEVENT
DTSTART;VALUE=DATE:20250605
DTEND;VALUE=DATE:20250609
DTSTAMP:20260420T113653
CREATED:20250318T072549Z
LAST-MODIFIED:20250318T072549Z
UID:3931-1749081600-1749427199@www.exsa.co.za
SUMMARY:SASUOG 2025
DESCRIPTION:
URL:https://www.exsa.co.za/event/sasuog-2025/
LOCATION:East London\, South Africa
END:VEVENT
BEGIN:VEVENT
DTSTART;VALUE=DATE:20250605
DTEND;VALUE=DATE:20250609
DTSTAMP:20260420T113653
CREATED:20250307T075744Z
LAST-MODIFIED:20250307T075744Z
UID:3712-1749081600-1749427199@www.exsa.co.za
SUMMARY:Decorex 2025
DESCRIPTION:
URL:https://www.exsa.co.za/event/decorex-2025/
LOCATION:CTICC\, Cape Town\, South Africa
END:VEVENT
BEGIN:VEVENT
DTSTART;VALUE=DATE:20250604
DTEND;VALUE=DATE:20250609
DTSTAMP:20260420T113653
CREATED:20250318T071954Z
LAST-MODIFIED:20250318T071954Z
UID:3927-1748995200-1749427199@www.exsa.co.za
SUMMARY:Comrades Marathon
DESCRIPTION:
URL:https://www.exsa.co.za/event/comrades-marathon/
LOCATION:Durban\, Durban\, South Africa
END:VEVENT
BEGIN:VEVENT
DTSTART;VALUE=DATE:20250604
DTEND;VALUE=DATE:20250607
DTSTAMP:20260420T113653
CREATED:20250318T071857Z
LAST-MODIFIED:20250318T071857Z
UID:3925-1748995200-1749254399@www.exsa.co.za
SUMMARY:Frigair Exhibition 2025
DESCRIPTION:
URL:https://www.exsa.co.za/event/frigair-exhibition-2025-2/
LOCATION:Johannesburg\, Johannesburg\, South Africa
END:VEVENT
BEGIN:VEVENT
DTSTART;VALUE=DATE:20250604
DTEND;VALUE=DATE:20250607
DTSTAMP:20260420T113653
CREATED:20250307T075631Z
LAST-MODIFIED:20250307T075631Z
UID:3708-1748995200-1749254399@www.exsa.co.za
SUMMARY:Frigair Exhibition 2025
DESCRIPTION:
URL:https://www.exsa.co.za/event/frigair-exhibition-2025/
LOCATION:Johannesburg\, Johannesburg\, South Africa
END:VEVENT
BEGIN:VEVENT
DTSTART;VALUE=DATE:20250604
DTEND;VALUE=DATE:20250606
DTSTAMP:20260420T113653
CREATED:20250307T075704Z
LAST-MODIFIED:20250307T075704Z
UID:3710-1748995200-1749167999@www.exsa.co.za
SUMMARY:WCPDF 2025 (Property  Develop. Forum)
DESCRIPTION:
URL:https://www.exsa.co.za/event/wcpdf-2025-property-develop-forum/
LOCATION:CTICC\, Cape Town\, South Africa
END:VEVENT
BEGIN:VEVENT
DTSTART;VALUE=DATE:20250604
DTEND;VALUE=DATE:20250605
DTSTAMP:20260420T113653
CREATED:20250318T072404Z
LAST-MODIFIED:20250318T072404Z
UID:3929-1748995200-1749081599@www.exsa.co.za
SUMMARY:Global Exhibition Day
DESCRIPTION:
URL:https://www.exsa.co.za/event/global-exhibition-day/
END:VEVENT
BEGIN:VEVENT
DTSTART;VALUE=DATE:20250603
DTEND;VALUE=DATE:20250606
DTSTAMP:20260420T113653
CREATED:20250318T071722Z
LAST-MODIFIED:20250318T071722Z
UID:3923-1748908800-1749167999@www.exsa.co.za
SUMMARY:Occupation Health and Safety Expo
DESCRIPTION:
URL:https://www.exsa.co.za/event/occupation-health-and-safety-expo/
LOCATION:Gallagher\, South Africa
END:VEVENT
BEGIN:VEVENT
DTSTART;VALUE=DATE:20250603
DTEND;VALUE=DATE:20250606
DTSTAMP:20260420T113653
CREATED:20250318T071127Z
LAST-MODIFIED:20250318T071127Z
UID:3921-1748908800-1749167999@www.exsa.co.za
SUMMARY:Facilities Management Expo
DESCRIPTION:
URL:https://www.exsa.co.za/event/facilities-management-expo/
LOCATION:Gallagher\, South Africa
END:VEVENT
BEGIN:VEVENT
DTSTART;VALUE=DATE:20250603
DTEND;VALUE=DATE:20250606
DTSTAMP:20260420T113653
CREATED:20250307T075435Z
LAST-MODIFIED:20250307T075435Z
UID:3706-1748908800-1749167999@www.exsa.co.za
SUMMARY:IT Web Security Summit 2025
DESCRIPTION:
URL:https://www.exsa.co.za/event/it-web-security-summit-2025/
LOCATION:Sandton
END:VEVENT
BEGIN:VEVENT
DTSTART;VALUE=DATE:20250603
DTEND;VALUE=DATE:20250606
DTSTAMP:20260420T113653
CREATED:20250307T075353Z
LAST-MODIFIED:20250307T075353Z
UID:3704-1748908800-1749167999@www.exsa.co.za
SUMMARY:Securex Expo / A-OSH
DESCRIPTION:
URL:https://www.exsa.co.za/event/securex-expo-a-osh/
LOCATION:Johannesburg\, Johannesburg\, South Africa
END:VEVENT
BEGIN:VEVENT
DTSTART;VALUE=DATE:20250530
DTEND;VALUE=DATE:20250602
DTSTAMP:20260420T113653
CREATED:20250313T071452Z
LAST-MODIFIED:20250313T071452Z
UID:3913-1748563200-1748822399@www.exsa.co.za
SUMMARY:The Good Life Show
DESCRIPTION:
URL:https://www.exsa.co.za/event/the-good-life-show/
LOCATION:Cape Town\, Cape Town\, South Africa
END:VEVENT
BEGIN:VEVENT
DTSTART;VALUE=DATE:20250530
DTEND;VALUE=DATE:20250602
DTSTAMP:20260420T113653
CREATED:20250313T071252Z
LAST-MODIFIED:20250313T071252Z
UID:3909-1748563200-1748822399@www.exsa.co.za
SUMMARY:Outdoor X
DESCRIPTION:
URL:https://www.exsa.co.za/event/outdoor-x/
LOCATION:Johannesburg\, Johannesburg\, South Africa
END:VEVENT
BEGIN:VEVENT
DTSTART;VALUE=DATE:20250530
DTEND;VALUE=DATE:20250602
DTSTAMP:20260420T113653
CREATED:20250306T142550Z
LAST-MODIFIED:20250306T142550Z
UID:3691-1748563200-1748822399@www.exsa.co.za
SUMMARY:Good Life Show 2025
DESCRIPTION:
URL:https://www.exsa.co.za/event/good-life-show-2025/
LOCATION:CTICC\, Cape Town\, South Africa
END:VEVENT
BEGIN:VEVENT
DTSTART;VALUE=DATE:20250530
DTEND;VALUE=DATE:20250601
DTSTAMP:20260420T113653
CREATED:20250313T071406Z
LAST-MODIFIED:20250313T071406Z
UID:3911-1748563200-1748735999@www.exsa.co.za
SUMMARY:The Cannabis Expo
DESCRIPTION:
URL:https://www.exsa.co.za/event/the-cannabis-expo/
LOCATION:Johannesburg\, Johannesburg\, South Africa
END:VEVENT
BEGIN:VEVENT
DTSTART;VALUE=DATE:20250529
DTEND;VALUE=DATE:20250531
DTSTAMP:20260420T113653
CREATED:20250306T142510Z
LAST-MODIFIED:20250306T142510Z
UID:3689-1748476800-1748649599@www.exsa.co.za
SUMMARY:FMAS 2025
DESCRIPTION:
URL:https://www.exsa.co.za/event/fmas-2025/
LOCATION:CTICC\, Cape Town\, South Africa
END:VEVENT
BEGIN:VEVENT
DTSTART;VALUE=DATE:20250527
DTEND;VALUE=DATE:20250529
DTSTAMP:20260420T113653
CREATED:20250306T142424Z
LAST-MODIFIED:20250306T142424Z
UID:3687-1748304000-1748476799@www.exsa.co.za
SUMMARY:IT Web Security Summit 2023
DESCRIPTION:
URL:https://www.exsa.co.za/event/it-web-security-summit-2023/
LOCATION:CTICC\, Cape Town\, South Africa
END:VEVENT
BEGIN:VEVENT
DTSTART;VALUE=DATE:20250524
DTEND;VALUE=DATE:20250525
DTSTAMP:20260420T113653
CREATED:20250306T142324Z
LAST-MODIFIED:20250306T142324Z
UID:3685-1748044800-1748131199@www.exsa.co.za
SUMMARY:Medical & Health Science Conference
DESCRIPTION:
URL:https://www.exsa.co.za/event/medical-health-science-conference/
LOCATION:Cape Town\, Cape Town\, South Africa
END:VEVENT
BEGIN:VEVENT
DTSTART;VALUE=DATE:20250523
DTEND;VALUE=DATE:20250526
DTSTAMP:20260420T113653
CREATED:20250313T071057Z
LAST-MODIFIED:20250313T071057Z
UID:3907-1747958400-1748217599@www.exsa.co.za
SUMMARY:RMB Latitudes Art Fair
DESCRIPTION:
URL:https://www.exsa.co.za/event/rmb-latitudes-art-fair/
LOCATION:Johannesburg\, Johannesburg\, South Africa
END:VEVENT
BEGIN:VEVENT
DTSTART;VALUE=DATE:20250523
DTEND;VALUE=DATE:20250526
DTSTAMP:20260420T113653
CREATED:20250313T071024Z
LAST-MODIFIED:20250313T071024Z
UID:3905-1747958400-1748217599@www.exsa.co.za
SUMMARY:Mzansi Food & Drink Show 2025
DESCRIPTION:
URL:https://www.exsa.co.za/event/mzansi-food-drink-show-2025/
LOCATION:Johannesburg\, Johannesburg\, South Africa
END:VEVENT
END:VCALENDAR