BEGIN:VCALENDAR
VERSION:2.0
PRODID:-//EXSA - ECPv6.14.2//NONSGML v1.0//EN
CALSCALE:GREGORIAN
METHOD:PUBLISH
X-ORIGINAL-URL:https://www.exsa.co.za
X-WR-CALDESC:Events for EXSA
REFRESH-INTERVAL;VALUE=DURATION:PT1H
X-Robots-Tag:noindex
X-PUBLISHED-TTL:PT1H
BEGIN:VTIMEZONE
TZID:Africa/Johannesburg
BEGIN:STANDARD
TZOFFSETFROM:+0200
TZOFFSETTO:+0200
TZNAME:SAST
DTSTART:20260101T000000
END:STANDARD
END:VTIMEZONE
BEGIN:VEVENT
DTSTART;TZID=Africa/Johannesburg:20260223T080000
DTEND;TZID=Africa/Johannesburg:20260225T170000
DTSTAMP:20260421T030329
CREATED:20251209T081759Z
LAST-MODIFIED:20251209T081759Z
UID:4741-1771833600-1772038800@www.exsa.co.za
SUMMARY:Meetings Africa
DESCRIPTION:
URL:https://www.exsa.co.za/event/meetings-africa-2/
LOCATION:Sandton
END:VEVENT
BEGIN:VEVENT
DTSTART;VALUE=DATE:20260227
DTEND;VALUE=DATE:20260302
DTSTAMP:20260421T030329
CREATED:20251209T082234Z
LAST-MODIFIED:20251209T082513Z
UID:4745-1772150400-1772409599@www.exsa.co.za
SUMMARY:Caravan Show - Gallagher Convention Centre
DESCRIPTION:
URL:https://www.exsa.co.za/event/caravan-show-gallagher-convention-centre/
LOCATION:Gallagher\, South Africa
END:VEVENT
BEGIN:VEVENT
DTSTART;VALUE=DATE:20260228
DTEND;VALUE=DATE:20260303
DTSTAMP:20260421T030329
CREATED:20251209T082036Z
LAST-MODIFIED:20251209T082721Z
UID:4743-1772236800-1772495999@www.exsa.co.za
SUMMARY:Homemakers Fair - Kyalami
DESCRIPTION:
URL:https://www.exsa.co.za/event/homemakers-fair-kyalami/
LOCATION:Johannesburg\, Johannesburg\, South Africa
END:VEVENT
BEGIN:VEVENT
DTSTART;TZID=Africa/Johannesburg:20260302T080000
DTEND;TZID=Africa/Johannesburg:20260303T170000
DTSTAMP:20260421T030329
CREATED:20251210T071152Z
LAST-MODIFIED:20251210T071152Z
UID:4753-1772438400-1772557200@www.exsa.co.za
SUMMARY:Infrastructure Africa - CTICC
DESCRIPTION:
URL:https://www.exsa.co.za/event/infrastructure-africa-cticc/
LOCATION:CTICC\, Cape Town\, South Africa
END:VEVENT
BEGIN:VEVENT
DTSTART;TZID=Africa/Johannesburg:20260303T080000
DTEND;TZID=Africa/Johannesburg:20260305T170000
DTSTAMP:20260421T030329
CREATED:20251210T071359Z
LAST-MODIFIED:20251210T071359Z
UID:4757-1772524800-1772730000@www.exsa.co.za
SUMMARY:Africa Energy Indaba
DESCRIPTION:
URL:https://www.exsa.co.za/event/africa-energy-indaba/
LOCATION:CTICC\, Cape Town\, South Africa
END:VEVENT
BEGIN:VEVENT
DTSTART;TZID=Africa/Johannesburg:20260304T080000
DTEND;TZID=Africa/Johannesburg:20260306T170000
DTSTAMP:20260421T030329
CREATED:20251210T071301Z
LAST-MODIFIED:20251210T071301Z
UID:4755-1772611200-1772816400@www.exsa.co.za
SUMMARY:SARCDA -Gallagher Convention Centre
DESCRIPTION:
URL:https://www.exsa.co.za/event/sarcda-gallagher-convention-centre/
LOCATION:Gallagher\, South Africa
END:VEVENT
BEGIN:VEVENT
DTSTART;VALUE=DATE:20260307
DTEND;VALUE=DATE:20260311
DTSTAMP:20260421T030329
CREATED:20251210T071549Z
LAST-MODIFIED:20251210T071749Z
UID:4759-1772841600-1773187199@www.exsa.co.za
SUMMARY:Propack - JEC
DESCRIPTION:
URL:https://www.exsa.co.za/event/propack-jec/
END:VEVENT
BEGIN:VEVENT
DTSTART;VALUE=DATE:20260308
DTEND;VALUE=DATE:20260309
DTSTAMP:20260421T030329
CREATED:20251210T071640Z
LAST-MODIFIED:20251210T071640Z
UID:4761-1772928000-1773014399@www.exsa.co.za
SUMMARY:Cape Cycle Tour
DESCRIPTION:
URL:https://www.exsa.co.za/event/cape-cycle-tour/
END:VEVENT
BEGIN:VEVENT
DTSTART;VALUE=DATE:20260308
DTEND;VALUE=DATE:20260311
DTSTAMP:20260421T030329
CREATED:20251210T072335Z
LAST-MODIFIED:20251210T072335Z
UID:4765-1772928000-1773187199@www.exsa.co.za
SUMMARY:Hostex
DESCRIPTION:
URL:https://www.exsa.co.za/event/hostex/
LOCATION:Sandton
END:VEVENT
BEGIN:VEVENT
DTSTART;VALUE=DATE:20260311
DTEND;VALUE=DATE:20260314
DTSTAMP:20260421T030329
CREATED:20251210T072053Z
LAST-MODIFIED:20251210T072053Z
UID:4763-1773187200-1773446399@www.exsa.co.za
SUMMARY:GTR Africa
DESCRIPTION:
URL:https://www.exsa.co.za/event/gtr-africa/
LOCATION:Cape Town\, Cape Town\, South Africa
END:VEVENT
BEGIN:VEVENT
DTSTART;VALUE=DATE:20260311
DTEND;VALUE=DATE:20260315
DTSTAMP:20260421T030329
CREATED:20251210T072445Z
LAST-MODIFIED:20251210T072802Z
UID:4767-1773187200-1773532799@www.exsa.co.za
SUMMARY:Propak/GAPP Print Expo - JEC
DESCRIPTION:
URL:https://www.exsa.co.za/event/propak-gapp-print-expo-jec/
LOCATION:Johannesburg\, Johannesburg\, South Africa
END:VEVENT
BEGIN:VEVENT
DTSTART;VALUE=DATE:20260325
DTEND;VALUE=DATE:20260327
DTSTAMP:20260421T030329
CREATED:20251210T073433Z
LAST-MODIFIED:20251210T073433Z
UID:4771-1774396800-1774569599@www.exsa.co.za
SUMMARY:Hospital Show - Sandton CC
DESCRIPTION:
URL:https://www.exsa.co.za/event/hospital-show-sandton-cc/
LOCATION:Sandton
END:VEVENT
BEGIN:VEVENT
DTSTART;TZID=Africa/Johannesburg:20260325T080000
DTEND;TZID=Africa/Johannesburg:20260327T170000
DTSTAMP:20260421T030329
CREATED:20251210T072858Z
LAST-MODIFIED:20251210T072858Z
UID:4769-1774425600-1774630800@www.exsa.co.za
SUMMARY:Solar & Storage Show
DESCRIPTION:
URL:https://www.exsa.co.za/event/solar-storage-show/
LOCATION:Gallagher\, South Africa
END:VEVENT
BEGIN:VEVENT
DTSTART;VALUE=DATE:20260402
DTEND;VALUE=DATE:20260407
DTSTAMP:20260421T030329
CREATED:20251210T073727Z
LAST-MODIFIED:20251210T073727Z
UID:4775-1775088000-1775519999@www.exsa.co.za
SUMMARY:Rand Show - JEC
DESCRIPTION:
URL:https://www.exsa.co.za/event/rand-show-jec/
LOCATION:Johannesburg\, Johannesburg\, South Africa
END:VEVENT
BEGIN:VEVENT
DTSTART;VALUE=DATE:20260410
DTEND;VALUE=DATE:20260413
DTSTAMP:20260421T030329
CREATED:20251210T073848Z
LAST-MODIFIED:20251210T073932Z
UID:4777-1775779200-1776038399@www.exsa.co.za
SUMMARY:ITLM - Kirstenbosch
DESCRIPTION:
URL:https://www.exsa.co.za/event/itlm-kirstenbosch/
END:VEVENT
BEGIN:VEVENT
DTSTART;VALUE=DATE:20260412
DTEND;VALUE=DATE:20260413
DTSTAMP:20260421T030329
CREATED:20251211T081324Z
LAST-MODIFIED:20251211T081324Z
UID:4804-1775952000-1776038399@www.exsa.co.za
SUMMARY:Two Oceans - Cape Town
DESCRIPTION:
URL:https://www.exsa.co.za/event/two-oceans-cape-town/
LOCATION:Cape Town\, Cape Town\, South Africa
END:VEVENT
BEGIN:VEVENT
DTSTART;VALUE=DATE:20260413
DTEND;VALUE=DATE:20260415
DTSTAMP:20260421T030329
CREATED:20251211T081431Z
LAST-MODIFIED:20251211T081431Z
UID:4806-1776038400-1776211199@www.exsa.co.za
SUMMARY:CBX JEC
DESCRIPTION:
URL:https://www.exsa.co.za/event/cbx-jec/
LOCATION:Johannesburg\, Johannesburg\, South Africa
END:VEVENT
BEGIN:VEVENT
DTSTART;VALUE=DATE:20260413
DTEND;VALUE=DATE:20260416
DTSTAMP:20260421T030329
CREATED:20251211T081214Z
LAST-MODIFIED:20251211T081214Z
UID:4802-1776038400-1776297599@www.exsa.co.za
SUMMARY:WTM - Cape Town
DESCRIPTION:
URL:https://www.exsa.co.za/event/wtm-cape-town/
LOCATION:Cape Town\, Cape Town\, South Africa
END:VEVENT
BEGIN:VEVENT
DTSTART;VALUE=DATE:20260421
DTEND;VALUE=DATE:20260422
DTSTAMP:20260421T030329
CREATED:20251211T081628Z
LAST-MODIFIED:20251211T081628Z
UID:4808-1776729600-1776815999@www.exsa.co.za
SUMMARY:Ironman
DESCRIPTION:
URL:https://www.exsa.co.za/event/ironman/
END:VEVENT
BEGIN:VEVENT
DTSTART;TZID=Africa/Johannesburg:20260423T080000
DTEND;TZID=Africa/Johannesburg:20260502T170000
DTSTAMP:20260421T030329
CREATED:20251211T081826Z
LAST-MODIFIED:20251211T081826Z
UID:4810-1776931200-1777741200@www.exsa.co.za
SUMMARY:Bloemskou
DESCRIPTION:
URL:https://www.exsa.co.za/event/bloemskou/
END:VEVENT
BEGIN:VEVENT
DTSTART;TZID=Africa/Johannesburg:20260424T080000
DTEND;TZID=Africa/Johannesburg:20260427T170000
DTSTAMP:20260421T030329
CREATED:20251211T081918Z
LAST-MODIFIED:20251211T081918Z
UID:4812-1777017600-1777309200@www.exsa.co.za
SUMMARY:Huntex - Gallagher
DESCRIPTION:
URL:https://www.exsa.co.za/event/huntex-gallagher/
LOCATION:Gallagher\, South Africa
END:VEVENT
BEGIN:VEVENT
DTSTART;TZID=Africa/Johannesburg:20260428T080000
DTEND;TZID=Africa/Johannesburg:20260429T170000
DTSTAMP:20260421T030329
CREATED:20251211T082053Z
LAST-MODIFIED:20251211T082053Z
UID:4814-1777363200-1777482000@www.exsa.co.za
SUMMARY:Afrikaburn - Tankwa Karoo
DESCRIPTION:
URL:https://www.exsa.co.za/event/afrikaburn-tankwa-karoo/
END:VEVENT
BEGIN:VEVENT
DTSTART;TZID=Africa/Johannesburg:20260430T080000
DTEND;TZID=Africa/Johannesburg:20260503T170000
DTSTAMP:20260421T030329
CREATED:20251211T082244Z
LAST-MODIFIED:20251211T082244Z
UID:4816-1777536000-1777827600@www.exsa.co.za
SUMMARY:HobbyX - Midrand/Afrika burn - Tankwa Karoo
DESCRIPTION:
URL:https://www.exsa.co.za/event/hobbyx-midrand-afrika-burn-tankwa-karoo/
END:VEVENT
BEGIN:VEVENT
DTSTART;VALUE=DATE:20260504
DTEND;VALUE=DATE:20260507
DTSTAMP:20260421T030329
CREATED:20251211T082520Z
LAST-MODIFIED:20251211T082520Z
UID:4818-1777852800-1778111999@www.exsa.co.za
SUMMARY:Converge Africa - CTICC
DESCRIPTION:
URL:https://www.exsa.co.za/event/converge-africa-cticc/
LOCATION:CTICC\, Cape Town\, South Africa
END:VEVENT
BEGIN:VEVENT
DTSTART;VALUE=DATE:20260504
DTEND;VALUE=DATE:20260509
DTSTAMP:20260421T030329
CREATED:20251211T082654Z
LAST-MODIFIED:20251211T082654Z
UID:4820-1777852800-1778284799@www.exsa.co.za
SUMMARY:We are Africa - Cape Town
DESCRIPTION:
URL:https://www.exsa.co.za/event/we-are-africa-cape-town/
LOCATION:Cape Town\, Cape Town\, South Africa
END:VEVENT
BEGIN:VEVENT
DTSTART;VALUE=DATE:20260511
DTEND;VALUE=DATE:20260515
DTSTAMP:20260421T030329
CREATED:20251211T083353Z
LAST-MODIFIED:20251211T083353Z
UID:4828-1778457600-1778803199@www.exsa.co.za
SUMMARY:Tourism Indaba DICC/Connect
DESCRIPTION:
URL:https://www.exsa.co.za/event/tourism-indaba-dicc-connect/
LOCATION:Durban\, Durban\, South Africa
END:VEVENT
BEGIN:VEVENT
DTSTART;VALUE=DATE:20260512
DTEND;VALUE=DATE:20260515
DTSTAMP:20260421T030329
CREATED:20251211T083053Z
LAST-MODIFIED:20251211T083053Z
UID:4824-1778544000-1778803199@www.exsa.co.za
SUMMARY:Infrastructure & Water Expo
DESCRIPTION:
URL:https://www.exsa.co.za/event/infrastructure-water-expo/
LOCATION:Gallagher\, South Africa
END:VEVENT
BEGIN:VEVENT
DTSTART;VALUE=DATE:20260512
DTEND;VALUE=DATE:20260516
DTSTAMP:20260421T030329
CREATED:20251211T082906Z
LAST-MODIFIED:20251211T082923Z
UID:4822-1778544000-1778889599@www.exsa.co.za
SUMMARY:Nampo
DESCRIPTION:
URL:https://www.exsa.co.za/event/nampo/
LOCATION:Bothaville\, South Africa
END:VEVENT
BEGIN:VEVENT
DTSTART;VALUE=DATE:20260513
DTEND;VALUE=DATE:20260515
DTSTAMP:20260421T030329
CREATED:20251211T083236Z
LAST-MODIFIED:20251211T083236Z
UID:4826-1778630400-1778803199@www.exsa.co.za
SUMMARY:Africa Automotive Indaba -Raddison Waterfront
DESCRIPTION:
URL:https://www.exsa.co.za/event/africa-automotive-indaba-raddison-waterfront/
LOCATION:Cape Town\, Cape Town\, South Africa
END:VEVENT
BEGIN:VEVENT
DTSTART;TZID=Africa/Johannesburg:20260522T080000
DTEND;TZID=Africa/Johannesburg:20260525T170000
DTSTAMP:20260421T030329
CREATED:20251211T084231Z
LAST-MODIFIED:20251211T084231Z
UID:4830-1779436800-1779728400@www.exsa.co.za
SUMMARY:RMB Latitude Art Fair - Shepstone Gardens
DESCRIPTION:
URL:https://www.exsa.co.za/event/rmb-latitude-art-fair-shepstone-gardens/
END:VEVENT
END:VCALENDAR