BEGIN:VCALENDAR
VERSION:2.0
PRODID:-//EXSA - ECPv6.14.2//NONSGML v1.0//EN
CALSCALE:GREGORIAN
METHOD:PUBLISH
X-ORIGINAL-URL:https://www.exsa.co.za
X-WR-CALDESC:Events for EXSA
REFRESH-INTERVAL;VALUE=DURATION:PT1H
X-Robots-Tag:noindex
X-PUBLISHED-TTL:PT1H
BEGIN:VTIMEZONE
TZID:Africa/Johannesburg
BEGIN:STANDARD
TZOFFSETFROM:+0200
TZOFFSETTO:+0200
TZNAME:SAST
DTSTART:20250101T000000
END:STANDARD
END:VTIMEZONE
BEGIN:VEVENT
DTSTART;VALUE=DATE:20250501
DTEND;VALUE=DATE:20250505
DTSTAMP:20260420T002435
CREATED:20250306T115647Z
LAST-MODIFIED:20250306T115647Z
UID:3659-1746057600-1746403199@www.exsa.co.za
SUMMARY:The Royal Show
DESCRIPTION:
URL:https://www.exsa.co.za/event/the-royal-show/
LOCATION:Durban\, Durban\, South Africa
END:VEVENT
BEGIN:VEVENT
DTSTART;VALUE=DATE:20250501
DTEND;VALUE=DATE:20250505
DTSTAMP:20260420T002435
CREATED:20250306T123915Z
LAST-MODIFIED:20250306T123915Z
UID:3661-1746057600-1746403199@www.exsa.co.za
SUMMARY:Comic Con Cape Town 2025
DESCRIPTION:
URL:https://www.exsa.co.za/event/comic-con-cape-town-2025/
LOCATION:CTICC\, Cape Town\, South Africa
END:VEVENT
BEGIN:VEVENT
DTSTART;VALUE=DATE:20250501
DTEND;VALUE=DATE:20250505
DTSTAMP:20260420T002435
CREATED:20250306T125342Z
LAST-MODIFIED:20250306T125342Z
UID:3663-1746057600-1746403199@www.exsa.co.za
SUMMARY:Hobby-X
DESCRIPTION:
URL:https://www.exsa.co.za/event/hobby-x/
LOCATION:Johannesburg\, Johannesburg\, South Africa
END:VEVENT
BEGIN:VEVENT
DTSTART;VALUE=DATE:20250502
DTEND;VALUE=DATE:20250506
DTSTAMP:20260420T002435
CREATED:20250313T065200Z
LAST-MODIFIED:20250313T065200Z
UID:3883-1746144000-1746489599@www.exsa.co.za
SUMMARY:Two Oceans Marathon Expo
DESCRIPTION:
URL:https://www.exsa.co.za/event/two-oceans-marathon-expo/
LOCATION:Cape Town\, Cape Town\, South Africa
END:VEVENT
BEGIN:VEVENT
DTSTART;VALUE=DATE:20250503
DTEND;VALUE=DATE:20250505
DTSTAMP:20260420T002435
CREATED:20250313T065252Z
LAST-MODIFIED:20250313T065252Z
UID:3885-1746230400-1746403199@www.exsa.co.za
SUMMARY:Cape Town International Jazz Festival
DESCRIPTION:
URL:https://www.exsa.co.za/event/cape-town-international-jazz-festival/
LOCATION:Cape Town\, Cape Town\, South Africa
END:VEVENT
BEGIN:VEVENT
DTSTART;VALUE=DATE:20250503
DTEND;VALUE=DATE:20250505
DTSTAMP:20260420T002435
CREATED:20250313T065406Z
LAST-MODIFIED:20250313T065406Z
UID:3887-1746230400-1746403199@www.exsa.co.za
SUMMARY:Emmigration Expo
DESCRIPTION:
URL:https://www.exsa.co.za/event/emmigration-expo/
LOCATION:Johannesburg\, Johannesburg\, South Africa
END:VEVENT
BEGIN:VEVENT
DTSTART;VALUE=DATE:20250505
DTEND;VALUE=DATE:20250510
DTSTAMP:20260420T002435
CREATED:20250313T065449Z
LAST-MODIFIED:20250313T065449Z
UID:3889-1746403200-1746835199@www.exsa.co.za
SUMMARY:We Are Africa 2025
DESCRIPTION:
URL:https://www.exsa.co.za/event/we-are-africa-2025/
LOCATION:CTICC\, Cape Town\, South Africa
END:VEVENT
BEGIN:VEVENT
DTSTART;VALUE=DATE:20250506
DTEND;VALUE=DATE:20250508
DTSTAMP:20260420T002435
CREATED:20250313T065544Z
LAST-MODIFIED:20250313T065544Z
UID:3891-1746489600-1746662399@www.exsa.co.za
SUMMARY:Border Security Week
DESCRIPTION:
URL:https://www.exsa.co.za/event/border-security-week/
LOCATION:Cape Town\, Cape Town\, South Africa
END:VEVENT
BEGIN:VEVENT
DTSTART;VALUE=DATE:20250506
DTEND;VALUE=DATE:20250509
DTSTAMP:20260420T002435
CREATED:20250306T125459Z
LAST-MODIFIED:20250306T125459Z
UID:3665-1746489600-1746748799@www.exsa.co.za
SUMMARY:Converge Africa 2025
DESCRIPTION:
URL:https://www.exsa.co.za/event/converge-africa-2025/
LOCATION:CTICC\, Cape Town\, South Africa
END:VEVENT
BEGIN:VEVENT
DTSTART;VALUE=DATE:20250506
DTEND;VALUE=DATE:20250509
DTSTAMP:20260420T002435
CREATED:20250306T130426Z
LAST-MODIFIED:20250306T130426Z
UID:3667-1746489600-1746748799@www.exsa.co.za
SUMMARY:Africa Automation Fair 2025
DESCRIPTION:
URL:https://www.exsa.co.za/event/africa-automation-fair-2025/
LOCATION:Johannesburg\, Johannesburg\, South Africa
END:VEVENT
BEGIN:VEVENT
DTSTART;VALUE=DATE:20250506
DTEND;VALUE=DATE:20250509
DTSTAMP:20260420T002435
CREATED:20250313T065734Z
LAST-MODIFIED:20250313T065734Z
UID:3893-1746489600-1746748799@www.exsa.co.za
SUMMARY:Converge Africa 2025
DESCRIPTION:
URL:https://www.exsa.co.za/event/converge-africa-2025-2/
LOCATION:Cape Town\, Cape Town\, South Africa
END:VEVENT
BEGIN:VEVENT
DTSTART;VALUE=DATE:20250509
DTEND;VALUE=DATE:20250510
DTSTAMP:20260420T002435
CREATED:20250313T070222Z
LAST-MODIFIED:20250313T070222Z
UID:3895-1746748800-1746835199@www.exsa.co.za
SUMMARY:Ultra South Africa Cape Town
DESCRIPTION:
URL:https://www.exsa.co.za/event/ultra-south-africa-cape-town/
LOCATION:Cape Town\, Cape Town\, South Africa
END:VEVENT
BEGIN:VEVENT
DTSTART;VALUE=DATE:20250509
DTEND;VALUE=DATE:20250512
DTSTAMP:20260420T002435
CREATED:20250306T140811Z
LAST-MODIFIED:20250306T140811Z
UID:3671-1746748800-1747007999@www.exsa.co.za
SUMMARY:VTA25 Symposium
DESCRIPTION:
URL:https://www.exsa.co.za/event/vta25-symposium/
LOCATION:Johannesburg\, Johannesburg\, South Africa
END:VEVENT
BEGIN:VEVENT
DTSTART;VALUE=DATE:20250510
DTEND;VALUE=DATE:20250511
DTSTAMP:20260420T002435
CREATED:20250313T070247Z
LAST-MODIFIED:20250313T070247Z
UID:3897-1746835200-1746921599@www.exsa.co.za
SUMMARY:Ultra South Africa
DESCRIPTION:
URL:https://www.exsa.co.za/event/ultra-south-africa/
LOCATION:Johannesburg\, Johannesburg\, South Africa
END:VEVENT
BEGIN:VEVENT
DTSTART;VALUE=DATE:20250513
DTEND;VALUE=DATE:20250515
DTSTAMP:20260420T002435
CREATED:20250306T140922Z
LAST-MODIFIED:20250306T140922Z
UID:3673-1747094400-1747267199@www.exsa.co.za
SUMMARY:Africa Rail 2025
DESCRIPTION:
URL:https://www.exsa.co.za/event/africa-rail-2025/
LOCATION:Johannesburg\, Johannesburg\, South Africa
END:VEVENT
BEGIN:VEVENT
DTSTART;VALUE=DATE:20250513
DTEND;VALUE=DATE:20250517
DTSTAMP:20260420T002435
CREATED:20250306T141222Z
LAST-MODIFIED:20250306T141222Z
UID:3675-1747094400-1747439999@www.exsa.co.za
SUMMARY:Nampo Harvest Day
DESCRIPTION:
URL:https://www.exsa.co.za/event/nampo-harvest-day-2/
LOCATION:Bothaville\, South Africa
END:VEVENT
BEGIN:VEVENT
DTSTART;VALUE=DATE:20250513
DTEND;VALUE=DATE:20250517
DTSTAMP:20260420T002435
CREATED:20250313T070539Z
LAST-MODIFIED:20250313T070539Z
UID:3899-1747094400-1747439999@www.exsa.co.za
SUMMARY:Africa's Travel Indaba
DESCRIPTION:
URL:https://www.exsa.co.za/event/africas-travel-indaba/
LOCATION:Durban\, Durban\, South Africa
END:VEVENT
BEGIN:VEVENT
DTSTART;VALUE=DATE:20250514
DTEND;VALUE=DATE:20250516
DTSTAMP:20260420T002435
CREATED:20250313T070748Z
LAST-MODIFIED:20250313T070748Z
UID:3901-1747180800-1747353599@www.exsa.co.za
SUMMARY:African Air Expo
DESCRIPTION:
URL:https://www.exsa.co.za/event/african-air-expo/
LOCATION:Cape Town\, Cape Town\, South Africa
END:VEVENT
BEGIN:VEVENT
DTSTART;VALUE=DATE:20250514
DTEND;VALUE=DATE:20250517
DTSTAMP:20260420T002435
CREATED:20250306T141416Z
LAST-MODIFIED:20250306T141416Z
UID:3677-1747180800-1747439999@www.exsa.co.za
SUMMARY:Sign Africa
DESCRIPTION:
URL:https://www.exsa.co.za/event/sign-africa/
LOCATION:Cape Town\, Cape Town\, South Africa
END:VEVENT
BEGIN:VEVENT
DTSTART;TZID=Africa/Johannesburg:20250515T080000
DTEND;TZID=Africa/Johannesburg:20250516T170000
DTSTAMP:20260420T002435
CREATED:20250307T074618Z
LAST-MODIFIED:20250307T074618Z
UID:3696-1747296000-1747414800@www.exsa.co.za
SUMMARY:Floors in Africa Expo
DESCRIPTION:
URL:https://www.exsa.co.za/event/floors-in-africa-expo/
LOCATION:Indaba Fourways\, South Africa
END:VEVENT
BEGIN:VEVENT
DTSTART;VALUE=DATE:20250516
DTEND;VALUE=DATE:20250519
DTSTAMP:20260420T002435
CREATED:20250306T141839Z
LAST-MODIFIED:20250306T141839Z
UID:3679-1747353600-1747612799@www.exsa.co.za
SUMMARY:PainSA Congress 2025
DESCRIPTION:
URL:https://www.exsa.co.za/event/painsa-congress-2025/
LOCATION:Cape Town\, Cape Town\, South Africa
END:VEVENT
BEGIN:VEVENT
DTSTART;VALUE=DATE:20250520
DTEND;VALUE=DATE:20250523
DTSTAMP:20260420T002435
CREATED:20250306T142127Z
LAST-MODIFIED:20250306T142127Z
UID:3681-1747699200-1747958399@www.exsa.co.za
SUMMARY:ENlit Africa 2025 (Powergen Africa)
DESCRIPTION:
URL:https://www.exsa.co.za/event/enlit-africa-2025-powergen-africa/
LOCATION:CTICC\, Cape Town\, South Africa
END:VEVENT
BEGIN:VEVENT
DTSTART;VALUE=DATE:20250521
DTEND;VALUE=DATE:20250524
DTSTAMP:20260420T002435
CREATED:20250313T070929Z
LAST-MODIFIED:20250313T070929Z
UID:3903-1747785600-1748044799@www.exsa.co.za
SUMMARY:Aviation Summit
DESCRIPTION:
URL:https://www.exsa.co.za/event/aviation-summit/
LOCATION:Johannesburg\, Johannesburg\, South Africa
END:VEVENT
BEGIN:VEVENT
DTSTART;VALUE=DATE:20250522
DTEND;VALUE=DATE:20250525
DTSTAMP:20260420T002435
CREATED:20250306T142205Z
LAST-MODIFIED:20250306T142205Z
UID:3683-1747872000-1748131199@www.exsa.co.za
SUMMARY:SA Spine Congress 2025
DESCRIPTION:
URL:https://www.exsa.co.za/event/sa-spine-congress-2025/
LOCATION:CTICC\, Cape Town\, South Africa
END:VEVENT
BEGIN:VEVENT
DTSTART;VALUE=DATE:20250523
DTEND;VALUE=DATE:20250526
DTSTAMP:20260420T002435
CREATED:20250313T071024Z
LAST-MODIFIED:20250313T071024Z
UID:3905-1747958400-1748217599@www.exsa.co.za
SUMMARY:Mzansi Food & Drink Show 2025
DESCRIPTION:
URL:https://www.exsa.co.za/event/mzansi-food-drink-show-2025/
LOCATION:Johannesburg\, Johannesburg\, South Africa
END:VEVENT
BEGIN:VEVENT
DTSTART;VALUE=DATE:20250523
DTEND;VALUE=DATE:20250526
DTSTAMP:20260420T002435
CREATED:20250313T071057Z
LAST-MODIFIED:20250313T071057Z
UID:3907-1747958400-1748217599@www.exsa.co.za
SUMMARY:RMB Latitudes Art Fair
DESCRIPTION:
URL:https://www.exsa.co.za/event/rmb-latitudes-art-fair/
LOCATION:Johannesburg\, Johannesburg\, South Africa
END:VEVENT
BEGIN:VEVENT
DTSTART;VALUE=DATE:20250524
DTEND;VALUE=DATE:20250525
DTSTAMP:20260420T002435
CREATED:20250306T142324Z
LAST-MODIFIED:20250306T142324Z
UID:3685-1748044800-1748131199@www.exsa.co.za
SUMMARY:Medical & Health Science Conference
DESCRIPTION:
URL:https://www.exsa.co.za/event/medical-health-science-conference/
LOCATION:Cape Town\, Cape Town\, South Africa
END:VEVENT
BEGIN:VEVENT
DTSTART;VALUE=DATE:20250527
DTEND;VALUE=DATE:20250529
DTSTAMP:20260420T002435
CREATED:20250306T142424Z
LAST-MODIFIED:20250306T142424Z
UID:3687-1748304000-1748476799@www.exsa.co.za
SUMMARY:IT Web Security Summit 2023
DESCRIPTION:
URL:https://www.exsa.co.za/event/it-web-security-summit-2023/
LOCATION:CTICC\, Cape Town\, South Africa
END:VEVENT
BEGIN:VEVENT
DTSTART;VALUE=DATE:20250529
DTEND;VALUE=DATE:20250531
DTSTAMP:20260420T002435
CREATED:20250306T142510Z
LAST-MODIFIED:20250306T142510Z
UID:3689-1748476800-1748649599@www.exsa.co.za
SUMMARY:FMAS 2025
DESCRIPTION:
URL:https://www.exsa.co.za/event/fmas-2025/
LOCATION:CTICC\, Cape Town\, South Africa
END:VEVENT
BEGIN:VEVENT
DTSTART;VALUE=DATE:20250530
DTEND;VALUE=DATE:20250601
DTSTAMP:20260420T002435
CREATED:20250313T071406Z
LAST-MODIFIED:20250313T071406Z
UID:3911-1748563200-1748735999@www.exsa.co.za
SUMMARY:The Cannabis Expo
DESCRIPTION:
URL:https://www.exsa.co.za/event/the-cannabis-expo/
LOCATION:Johannesburg\, Johannesburg\, South Africa
END:VEVENT
END:VCALENDAR