BEGIN:VCALENDAR
VERSION:2.0
PRODID:-//EXSA - ECPv6.14.2//NONSGML v1.0//EN
CALSCALE:GREGORIAN
METHOD:PUBLISH
X-WR-CALNAME:EXSA
X-ORIGINAL-URL:https://www.exsa.co.za
X-WR-CALDESC:Events for EXSA
REFRESH-INTERVAL;VALUE=DURATION:PT1H
X-Robots-Tag:noindex
X-PUBLISHED-TTL:PT1H
BEGIN:VTIMEZONE
TZID:Africa/Johannesburg
BEGIN:STANDARD
TZOFFSETFROM:+0200
TZOFFSETTO:+0200
TZNAME:SAST
DTSTART:20250101T000000
END:STANDARD
END:VTIMEZONE
BEGIN:VEVENT
DTSTART;VALUE=DATE:20251021
DTEND;VALUE=DATE:20251024
DTSTAMP:20260421T034001
CREATED:20250310T094732Z
LAST-MODIFIED:20250310T094732Z
UID:3824-1761004800-1761263999@www.exsa.co.za
SUMMARY:Securex Expo / A-OSH
DESCRIPTION:
URL:https://www.exsa.co.za/event/securex-expo-a-osh-2/
LOCATION:Cape Town\, Cape Town\, South Africa
END:VEVENT
BEGIN:VEVENT
DTSTART;VALUE=DATE:20251022
DTEND;VALUE=DATE:20251026
DTSTAMP:20260421T034001
CREATED:20250310T094844Z
LAST-MODIFIED:20250310T094844Z
UID:3826-1761091200-1761436799@www.exsa.co.za
SUMMARY:IAPD 2025
DESCRIPTION:
URL:https://www.exsa.co.za/event/iapd-2025/
LOCATION:CTICC\, Cape Town\, South Africa
END:VEVENT
BEGIN:VEVENT
DTSTART;VALUE=DATE:20251023
DTEND;VALUE=DATE:20251026
DTSTAMP:20260421T034001
CREATED:20250318T090030Z
LAST-MODIFIED:20250318T090030Z
UID:4018-1761177600-1761436799@www.exsa.co.za
SUMMARY:Firexpo Cape Town 2025
DESCRIPTION:
URL:https://www.exsa.co.za/event/firexpo-cape-town-2025/
LOCATION:CTICC\, Cape Town\, South Africa
END:VEVENT
BEGIN:VEVENT
DTSTART;VALUE=DATE:20251023
DTEND;VALUE=DATE:20251026
DTSTAMP:20260421T034001
CREATED:20250318T090159Z
LAST-MODIFIED:20250318T090159Z
UID:4020-1761177600-1761436799@www.exsa.co.za
SUMMARY:Occupation Health and Safety Expo
DESCRIPTION:
URL:https://www.exsa.co.za/event/occupation-health-and-safety-expo-2/
LOCATION:CTICC\, Cape Town\, South Africa
END:VEVENT
BEGIN:VEVENT
DTSTART;VALUE=DATE:20251024
DTEND;VALUE=DATE:20251026
DTSTAMP:20260421T034001
CREATED:20250310T103631Z
LAST-MODIFIED:20250310T103631Z
UID:3828-1761264000-1761436799@www.exsa.co.za
SUMMARY:ILDS 2025
DESCRIPTION:
URL:https://www.exsa.co.za/event/ilds-2025/
LOCATION:Cape Town\, Cape Town\, South Africa
END:VEVENT
BEGIN:VEVENT
DTSTART;VALUE=DATE:20251028
DTEND;VALUE=DATE:20251031
DTSTAMP:20260421T034001
CREATED:20250318T090539Z
LAST-MODIFIED:20250318T090539Z
UID:4024-1761609600-1761868799@www.exsa.co.za
SUMMARY:Future Road Expo
DESCRIPTION:
URL:https://www.exsa.co.za/event/future-road-expo/
LOCATION:Johannesburg\, Johannesburg\, South Africa
END:VEVENT
BEGIN:VEVENT
DTSTART;VALUE=DATE:20251029
DTEND;VALUE=DATE:20251031
DTSTAMP:20260421T034001
CREATED:20250318T090634Z
LAST-MODIFIED:20250318T090634Z
UID:4026-1761696000-1761868799@www.exsa.co.za
SUMMARY:AFSA International Aluminium Conference and Exhibition Cape Town
DESCRIPTION:
URL:https://www.exsa.co.za/event/afsa-international-aluminium-conference-and-exhibition-cape-town/
LOCATION:CTICC\, Cape Town\, South Africa
END:VEVENT
BEGIN:VEVENT
DTSTART;VALUE=DATE:20251029
DTEND;VALUE=DATE:20251101
DTSTAMP:20260421T034001
CREATED:20250310T103711Z
LAST-MODIFIED:20250310T103711Z
UID:3830-1761696000-1761955199@www.exsa.co.za
SUMMARY:Al Expo Africa 2025
DESCRIPTION:
URL:https://www.exsa.co.za/event/al-expo-africa-2025/
LOCATION:Johannesburg\, Johannesburg\, South Africa
END:VEVENT
BEGIN:VEVENT
DTSTART;VALUE=DATE:20251029
DTEND;VALUE=DATE:20251101
DTSTAMP:20260421T034001
CREATED:20250318T090456Z
LAST-MODIFIED:20250318T090456Z
UID:4022-1761696000-1761955199@www.exsa.co.za
SUMMARY:Automechanika Johannesburg 
DESCRIPTION:
URL:https://www.exsa.co.za/event/automechanika-johannesburg/
LOCATION:Johannesburg\, Johannesburg\, South Africa
END:VEVENT
BEGIN:VEVENT
DTSTART;VALUE=DATE:20251029
DTEND;VALUE=DATE:20251101
DTSTAMP:20260421T034001
CREATED:20250318T090802Z
LAST-MODIFIED:20250318T090802Z
UID:4028-1761696000-1761955199@www.exsa.co.za
SUMMARY:Winex
DESCRIPTION:
URL:https://www.exsa.co.za/event/winex/
LOCATION:Johannesburg\, Johannesburg\, South Africa
END:VEVENT
BEGIN:VEVENT
DTSTART;TZID=Africa/Johannesburg:20251111T080000
DTEND;TZID=Africa/Johannesburg:20251113T170000
DTSTAMP:20260421T034001
CREATED:20250307T074744Z
LAST-MODIFIED:20250307T074744Z
UID:3699-1762848000-1763053200@www.exsa.co.za
SUMMARY:Africacom
DESCRIPTION:
URL:https://www.exsa.co.za/event/africacom/
LOCATION:CTICC\, Cape Town\, South Africa
END:VEVENT
BEGIN:VEVENT
DTSTART;VALUE=DATE:20251117
DTEND;VALUE=DATE:20251121
DTSTAMP:20260421T034001
CREATED:20250310T103814Z
LAST-MODIFIED:20250310T103814Z
UID:3832-1763337600-1763683199@www.exsa.co.za
SUMMARY:Flotation 2025
DESCRIPTION:
URL:https://www.exsa.co.za/event/flotation-2025/
LOCATION:Cape Town\, Cape Town\, South Africa
END:VEVENT
BEGIN:VEVENT
DTSTART;VALUE=DATE:20251122
DTEND;VALUE=DATE:20251126
DTSTAMP:20260421T034001
CREATED:20250318T071030Z
LAST-MODIFIED:20250318T071030Z
UID:3919-1763769600-1764115199@www.exsa.co.za
SUMMARY:African Agri Investment Indaba 2025
DESCRIPTION:
URL:https://www.exsa.co.za/event/african-agri-investment-indaba-2025/
LOCATION:Cape Town\, Cape Town\, South Africa
END:VEVENT
BEGIN:VEVENT
DTSTART;VALUE=DATE:20251205
DTEND;VALUE=DATE:20251209
DTSTAMP:20260421T034001
CREATED:20250318T070953Z
LAST-MODIFIED:20250318T070953Z
UID:3917-1764892800-1765238399@www.exsa.co.za
SUMMARY:Nedbank Golf Challenge
DESCRIPTION:
URL:https://www.exsa.co.za/event/nedbank-golf-challenge/
LOCATION:SunCity
END:VEVENT
BEGIN:VEVENT
DTSTART;VALUE=DATE:20260121
DTEND;VALUE=DATE:20260122
DTSTAMP:20260421T034001
CREATED:20251209T073537Z
LAST-MODIFIED:20251209T073537Z
UID:4725-1768953600-1769039999@www.exsa.co.za
SUMMARY:EXSA Conference/Awards
DESCRIPTION:
URL:https://www.exsa.co.za/event/exsa-conference-awards/
LOCATION:Kempton Park
END:VEVENT
BEGIN:VEVENT
DTSTART;TZID=Africa/Johannesburg:20260128T080000
DTEND;TZID=Africa/Johannesburg:20260128T170000
DTSTAMP:20260421T034001
CREATED:20251209T073659Z
LAST-MODIFIED:20251209T073659Z
UID:4727-1769587200-1769619600@www.exsa.co.za
SUMMARY:EXSA Webinar - Copyright
DESCRIPTION:
URL:https://www.exsa.co.za/event/exsa-webinar-copyright/
END:VEVENT
BEGIN:VEVENT
DTSTART;TZID=Africa/Johannesburg:20260205T080000
DTEND;TZID=Africa/Johannesburg:20260207T170000
DTSTAMP:20260421T034001
CREATED:20251209T074159Z
LAST-MODIFIED:20251209T074159Z
UID:4729-1770278400-1770483600@www.exsa.co.za
SUMMARY:Eid Shopping Festival -Gallagher Convention Centre
DESCRIPTION:
URL:https://www.exsa.co.za/event/eid-shopping-festival-gallagher-convention-centre/
LOCATION:Gallagher\, South Africa
END:VEVENT
BEGIN:VEVENT
DTSTART;TZID=Africa/Johannesburg:20260209T080000
DTEND;TZID=Africa/Johannesburg:20260211T170000
DTSTAMP:20260421T034001
CREATED:20251209T074449Z
LAST-MODIFIED:20251209T074449Z
UID:4731-1770624000-1770829200@www.exsa.co.za
SUMMARY:Mining Indaba - CTICC
DESCRIPTION:
URL:https://www.exsa.co.za/event/mining-indaba-cticc/
LOCATION:CTICC\, Cape Town\, South Africa
END:VEVENT
BEGIN:VEVENT
DTSTART;TZID=Africa/Johannesburg:20260217T080000
DTEND;TZID=Africa/Johannesburg:20260219T170000
DTSTAMP:20260421T034001
CREATED:20251209T074950Z
LAST-MODIFIED:20251209T080135Z
UID:4733-1771315200-1771520400@www.exsa.co.za
SUMMARY:Working World Tramways Gqeberha
DESCRIPTION:
URL:https://www.exsa.co.za/event/working-world-tramways-gqeberha/
LOCATION:Gqeberha (PE)
END:VEVENT
BEGIN:VEVENT
DTSTART;TZID=Africa/Johannesburg:20260218T080000
DTEND;TZID=Africa/Johannesburg:20260218T170000
DTSTAMP:20260421T034001
CREATED:20251209T080346Z
LAST-MODIFIED:20251209T080402Z
UID:4735-1771401600-1771434000@www.exsa.co.za
SUMMARY:EXSA Webinar - VAT ruling explained
DESCRIPTION:
URL:https://www.exsa.co.za/event/exsa-webinar-vat-ruling-explained/
END:VEVENT
BEGIN:VEVENT
DTSTART;TZID=Africa/Johannesburg:20260220T080000
DTEND;TZID=Africa/Johannesburg:20260221T170000
DTSTAMP:20260421T034001
CREATED:20251209T080707Z
LAST-MODIFIED:20251209T080721Z
UID:4737-1771574400-1771693200@www.exsa.co.za
SUMMARY:Cape Town art Festival CTICC
DESCRIPTION:
URL:https://www.exsa.co.za/event/cape-town-art-festival-cticc/
LOCATION:CTICC\, Cape Town\, South Africa
END:VEVENT
BEGIN:VEVENT
DTSTART;TZID=Africa/Johannesburg:20260222T080000
DTEND;TZID=Africa/Johannesburg:20260225T170000
DTSTAMP:20260421T034001
CREATED:20251209T080857Z
LAST-MODIFIED:20251209T080857Z
UID:4739-1771747200-1772038800@www.exsa.co.za
SUMMARY:EUROSHOP - Dusseldorf
DESCRIPTION:
URL:https://www.exsa.co.za/event/euroshop-dusseldorf/
END:VEVENT
BEGIN:VEVENT
DTSTART;TZID=Africa/Johannesburg:20260223T080000
DTEND;TZID=Africa/Johannesburg:20260225T170000
DTSTAMP:20260421T034001
CREATED:20251209T081759Z
LAST-MODIFIED:20251209T081759Z
UID:4741-1771833600-1772038800@www.exsa.co.za
SUMMARY:Meetings Africa
DESCRIPTION:
URL:https://www.exsa.co.za/event/meetings-africa-2/
LOCATION:Sandton
END:VEVENT
BEGIN:VEVENT
DTSTART;VALUE=DATE:20260227
DTEND;VALUE=DATE:20260302
DTSTAMP:20260421T034001
CREATED:20251209T082234Z
LAST-MODIFIED:20251209T082513Z
UID:4745-1772150400-1772409599@www.exsa.co.za
SUMMARY:Caravan Show - Gallagher Convention Centre
DESCRIPTION:
URL:https://www.exsa.co.za/event/caravan-show-gallagher-convention-centre/
LOCATION:Gallagher\, South Africa
END:VEVENT
BEGIN:VEVENT
DTSTART;VALUE=DATE:20260228
DTEND;VALUE=DATE:20260303
DTSTAMP:20260421T034001
CREATED:20251209T082036Z
LAST-MODIFIED:20251209T082721Z
UID:4743-1772236800-1772495999@www.exsa.co.za
SUMMARY:Homemakers Fair - Kyalami
DESCRIPTION:
URL:https://www.exsa.co.za/event/homemakers-fair-kyalami/
LOCATION:Johannesburg\, Johannesburg\, South Africa
END:VEVENT
BEGIN:VEVENT
DTSTART;TZID=Africa/Johannesburg:20260302T080000
DTEND;TZID=Africa/Johannesburg:20260303T170000
DTSTAMP:20260421T034001
CREATED:20251210T071152Z
LAST-MODIFIED:20251210T071152Z
UID:4753-1772438400-1772557200@www.exsa.co.za
SUMMARY:Infrastructure Africa - CTICC
DESCRIPTION:
URL:https://www.exsa.co.za/event/infrastructure-africa-cticc/
LOCATION:CTICC\, Cape Town\, South Africa
END:VEVENT
BEGIN:VEVENT
DTSTART;TZID=Africa/Johannesburg:20260303T080000
DTEND;TZID=Africa/Johannesburg:20260305T170000
DTSTAMP:20260421T034001
CREATED:20251210T071359Z
LAST-MODIFIED:20251210T071359Z
UID:4757-1772524800-1772730000@www.exsa.co.za
SUMMARY:Africa Energy Indaba
DESCRIPTION:
URL:https://www.exsa.co.za/event/africa-energy-indaba/
LOCATION:CTICC\, Cape Town\, South Africa
END:VEVENT
BEGIN:VEVENT
DTSTART;TZID=Africa/Johannesburg:20260304T080000
DTEND;TZID=Africa/Johannesburg:20260306T170000
DTSTAMP:20260421T034001
CREATED:20251210T071301Z
LAST-MODIFIED:20251210T071301Z
UID:4755-1772611200-1772816400@www.exsa.co.za
SUMMARY:SARCDA -Gallagher Convention Centre
DESCRIPTION:
URL:https://www.exsa.co.za/event/sarcda-gallagher-convention-centre/
LOCATION:Gallagher\, South Africa
END:VEVENT
BEGIN:VEVENT
DTSTART;VALUE=DATE:20260307
DTEND;VALUE=DATE:20260311
DTSTAMP:20260421T034001
CREATED:20251210T071549Z
LAST-MODIFIED:20251210T071749Z
UID:4759-1772841600-1773187199@www.exsa.co.za
SUMMARY:Propack - JEC
DESCRIPTION:
URL:https://www.exsa.co.za/event/propack-jec/
END:VEVENT
BEGIN:VEVENT
DTSTART;VALUE=DATE:20260308
DTEND;VALUE=DATE:20260309
DTSTAMP:20260421T034001
CREATED:20251210T071640Z
LAST-MODIFIED:20251210T071640Z
UID:4761-1772928000-1773014399@www.exsa.co.za
SUMMARY:Cape Cycle Tour
DESCRIPTION:
URL:https://www.exsa.co.za/event/cape-cycle-tour/
END:VEVENT
END:VCALENDAR