BEGIN:VCALENDAR
VERSION:2.0
PRODID:-//EXSA - ECPv6.14.2//NONSGML v1.0//EN
CALSCALE:GREGORIAN
METHOD:PUBLISH
X-WR-CALNAME:EXSA
X-ORIGINAL-URL:https://www.exsa.co.za
X-WR-CALDESC:Events for EXSA
REFRESH-INTERVAL;VALUE=DURATION:PT1H
X-Robots-Tag:noindex
X-PUBLISHED-TTL:PT1H
BEGIN:VTIMEZONE
TZID:Africa/Johannesburg
BEGIN:STANDARD
TZOFFSETFROM:+0200
TZOFFSETTO:+0200
TZNAME:SAST
DTSTART:20230101T000000
END:STANDARD
END:VTIMEZONE
BEGIN:VEVENT
DTSTART;TZID=Africa/Johannesburg:20240530T080000
DTEND;TZID=Africa/Johannesburg:20240601T170000
DTSTAMP:20260422T130616
CREATED:20240510T112818Z
LAST-MODIFIED:20240510T112818Z
UID:2024-1717056000-1717261200@www.exsa.co.za
SUMMARY:FIDSSA 2024
DESCRIPTION:
URL:https://www.exsa.co.za/event/fidssa-2024/
LOCATION:Johannesburg\, Johannesburg\, South Africa
END:VEVENT
BEGIN:VEVENT
DTSTART;TZID=Africa/Johannesburg:20240530T080000
DTEND;TZID=Africa/Johannesburg:20240530T170000
DTSTAMP:20260422T130616
CREATED:20240510T112732Z
LAST-MODIFIED:20240510T112732Z
UID:2022-1717056000-1717088400@www.exsa.co.za
SUMMARY:IT Web Security Summit
DESCRIPTION:
URL:https://www.exsa.co.za/event/it-web-security-summit/
LOCATION:Cape Town\, Cape Town\, South Africa
END:VEVENT
BEGIN:VEVENT
DTSTART;TZID=Africa/Johannesburg:20240529T080000
DTEND;TZID=Africa/Johannesburg:20240707T170000
DTSTAMP:20260422T130616
CREATED:20240514T074254Z
LAST-MODIFIED:20240514T074254Z
UID:2089-1716969600-1720371600@www.exsa.co.za
SUMMARY:ECR House & Garden Show
DESCRIPTION:
URL:https://www.exsa.co.za/event/ecr-house-garden-show/
LOCATION:Durban\, Durban\, South Africa
END:VEVENT
BEGIN:VEVENT
DTSTART;TZID=Africa/Johannesburg:20240528T080000
DTEND;TZID=Africa/Johannesburg:20240530T170000
DTSTAMP:20260422T130616
CREATED:20240510T111557Z
LAST-MODIFIED:20240510T111557Z
UID:2020-1716883200-1717088400@www.exsa.co.za
SUMMARY:Facilities Mgt Expo / FireExpo
DESCRIPTION:
URL:https://www.exsa.co.za/event/facilities-mgt-expo-fireexpo/
LOCATION:Johannesburg\, Johannesburg\, South Africa
END:VEVENT
BEGIN:VEVENT
DTSTART;TZID=Africa/Johannesburg:20240528T080000
DTEND;TZID=Africa/Johannesburg:20240530T170000
DTSTAMP:20260422T130616
CREATED:20240510T110131Z
LAST-MODIFIED:20240510T110131Z
UID:2018-1716883200-1717088400@www.exsa.co.za
SUMMARY:Securex Africa (IFSEC) /A-Osh Expo
DESCRIPTION:
URL:https://www.exsa.co.za/event/securex-africa-ifsec-a-osh-expo/
LOCATION:Johannesburg\, Johannesburg\, South Africa
END:VEVENT
BEGIN:VEVENT
DTSTART;TZID=Africa/Johannesburg:20240528T080000
DTEND;TZID=Africa/Johannesburg:20240530T170000
DTSTAMP:20260422T130616
CREATED:20240510T110024Z
LAST-MODIFIED:20240510T110043Z
UID:2016-1716883200-1717088400@www.exsa.co.za
SUMMARY:Enlit Africa (AUW)
DESCRIPTION:
URL:https://www.exsa.co.za/event/enlit-africa-auw/
LOCATION:CTICC\, Cape Town\, South Africa
END:VEVENT
BEGIN:VEVENT
DTSTART;TZID=Africa/Johannesburg:20240527T080000
DTEND;TZID=Africa/Johannesburg:20240529T170000
DTSTAMP:20260422T130616
CREATED:20240510T105753Z
LAST-MODIFIED:20240510T105753Z
UID:2013-1716796800-1717002000@www.exsa.co.za
SUMMARY:WISA 2024
DESCRIPTION:
URL:https://www.exsa.co.za/event/wisa-2024/
LOCATION:Durban\, Durban\, South Africa
END:VEVENT
BEGIN:VEVENT
DTSTART;TZID=Africa/Johannesburg:20240525T080000
DTEND;TZID=Africa/Johannesburg:20240526T170000
DTSTAMP:20260422T130616
CREATED:20240510T105144Z
LAST-MODIFIED:20240510T105144Z
UID:2011-1716624000-1716742800@www.exsa.co.za
SUMMARY:The Wedding Show 2024
DESCRIPTION:
URL:https://www.exsa.co.za/event/the-wedding-show-2024/
LOCATION:CTICC\, Cape Town\, South Africa
END:VEVENT
BEGIN:VEVENT
DTSTART;TZID=Africa/Johannesburg:20240524T080000
DTEND;TZID=Africa/Johannesburg:20240529T170000
DTSTAMP:20260422T130616
CREATED:20240510T100203Z
LAST-MODIFIED:20240510T100203Z
UID:2009-1716537600-1717002000@www.exsa.co.za
SUMMARY:Royal Show 2024
DESCRIPTION:
URL:https://www.exsa.co.za/event/royal-show-2024/
LOCATION:Durban\, Durban\, South Africa
END:VEVENT
BEGIN:VEVENT
DTSTART;TZID=Africa/Johannesburg:20240521T080000
DTEND;TZID=Africa/Johannesburg:20240524T170000
DTSTAMP:20260422T130616
CREATED:20240510T095224Z
LAST-MODIFIED:20240510T095224Z
UID:2007-1716278400-1716570000@www.exsa.co.za
SUMMARY:Machine Tools Africa 2024
DESCRIPTION:
URL:https://www.exsa.co.za/event/machine-tools-africa-2024/
LOCATION:Johannesburg\, Johannesburg\, South Africa
END:VEVENT
BEGIN:VEVENT
DTSTART;TZID=Africa/Johannesburg:20240517T080000
DTEND;TZID=Africa/Johannesburg:20240519T170000
DTSTAMP:20260422T130616
CREATED:20240510T095054Z
LAST-MODIFIED:20240510T095054Z
UID:2004-1715932800-1716138000@www.exsa.co.za
SUMMARY:Franschoek Literary Festival 2024
DESCRIPTION:
URL:https://www.exsa.co.za/event/franschoek-literary-festival-2024/
LOCATION:Sabie
END:VEVENT
BEGIN:VEVENT
DTSTART;TZID=Africa/Johannesburg:20240517T080000
DTEND;TZID=Africa/Johannesburg:20240519T170000
DTSTAMP:20260422T130616
CREATED:20240510T094847Z
LAST-MODIFIED:20240510T094847Z
UID:2002-1715932800-1716138000@www.exsa.co.za
SUMMARY:Pain SA Congress 2024
DESCRIPTION:
URL:https://www.exsa.co.za/event/pain-sa-congress-2024/
LOCATION:Durban\, Durban\, South Africa
END:VEVENT
BEGIN:VEVENT
DTSTART;TZID=Africa/Johannesburg:20240516T080000
DTEND;TZID=Africa/Johannesburg:20240518T170000
DTSTAMP:20260422T130616
CREATED:20240510T094756Z
LAST-MODIFIED:20240510T094756Z
UID:2000-1715846400-1716051600@www.exsa.co.za
SUMMARY:SA Spine Congress 2024
DESCRIPTION:
URL:https://www.exsa.co.za/event/sa-spine-congress-2024/
LOCATION:Johannesburg\, Johannesburg\, South Africa
END:VEVENT
BEGIN:VEVENT
DTSTART;TZID=Africa/Johannesburg:20240515T080000
DTEND;TZID=Africa/Johannesburg:20240518T170000
DTSTAMP:20260422T130616
CREATED:20240510T094652Z
LAST-MODIFIED:20240510T094652Z
UID:1998-1715760000-1716051600@www.exsa.co.za
SUMMARY:IHPBA World Congress 2024
DESCRIPTION:
URL:https://www.exsa.co.za/event/ihpba-world-congress-2024/
LOCATION:CTICC\, Cape Town\, South Africa
END:VEVENT
BEGIN:VEVENT
DTSTART;TZID=Africa/Johannesburg:20240515T080000
DTEND;TZID=Africa/Johannesburg:20240516T170000
DTSTAMP:20260422T130616
CREATED:20240510T094333Z
LAST-MODIFIED:20240510T094333Z
UID:1995-1715760000-1715878800@www.exsa.co.za
SUMMARY:Devac Agrifca 2024
DESCRIPTION:
URL:https://www.exsa.co.za/event/devac-agrifca-2024/
LOCATION:Sandton
END:VEVENT
BEGIN:VEVENT
DTSTART;TZID=Africa/Johannesburg:20240515T080000
DTEND;TZID=Africa/Johannesburg:20240516T170000
DTSTAMP:20260422T130616
CREATED:20240510T091908Z
LAST-MODIFIED:20240510T092926Z
UID:1993-1715760000-1715878800@www.exsa.co.za
SUMMARY:Sign Africa Cape Town 2024
DESCRIPTION:
URL:https://www.exsa.co.za/event/sign-africa-cape-town-2024/
LOCATION:CTICC\, Cape Town\, South Africa
END:VEVENT
BEGIN:VEVENT
DTSTART;TZID=Africa/Johannesburg:20240514T080000
DTEND;TZID=Africa/Johannesburg:20240517T170000
DTSTAMP:20260422T130616
CREATED:20240510T080205Z
LAST-MODIFIED:20240510T080627Z
UID:1990-1715673600-1715965200@www.exsa.co.za
SUMMARY:Nampo Harvest Day
DESCRIPTION:
URL:https://www.exsa.co.za/event/nampo-harvest-day/
LOCATION:Bothaville\, South Africa
END:VEVENT
BEGIN:VEVENT
DTSTART;TZID=Africa/Johannesburg:20240513T080000
DTEND;TZID=Africa/Johannesburg:20240516T170000
DTSTAMP:20260422T130616
CREATED:20240510T075533Z
LAST-MODIFIED:20240510T075533Z
UID:1988-1715587200-1715878800@www.exsa.co.za
SUMMARY:Africa’s Travel Indaba 2024
DESCRIPTION:
URL:https://www.exsa.co.za/event/africas-travel-indaba-2024/
LOCATION:Durban\, Durban\, South Africa
END:VEVENT
BEGIN:VEVENT
DTSTART;VALUE=DATE:20240226
DTEND;VALUE=DATE:20240229
DTSTAMP:20260422T130616
CREATED:20230822T080239Z
LAST-MODIFIED:20230822T081252Z
UID:1452-1708905600-1709164799@www.exsa.co.za
SUMMARY:Meetings Africa 2024
DESCRIPTION:
URL:https://www.exsa.co.za/event/meetings-africa/
LOCATION:Johannesburg\, Johannesburg\, South Africa
END:VEVENT
BEGIN:VEVENT
DTSTART;VALUE=DATE:20231110
DTEND;VALUE=DATE:20231112
DTSTAMP:20260422T130616
CREATED:20230822T081231Z
LAST-MODIFIED:20230822T081231Z
UID:1456-1699574400-1699747199@www.exsa.co.za
SUMMARY:Music and Lifestyle Expo 2023
DESCRIPTION:
URL:https://www.exsa.co.za/event/music-and-lifestyle-expo-2023/
LOCATION:Johannesburg\, Johannesburg\, South Africa
END:VEVENT
BEGIN:VEVENT
DTSTART;VALUE=DATE:20231103
DTEND;VALUE=DATE:20231106
DTSTAMP:20260422T130616
CREATED:20230822T081907Z
LAST-MODIFIED:20230822T081907Z
UID:1463-1698969600-1699228799@www.exsa.co.za
SUMMARY:MamaMagic Cape Town
DESCRIPTION:
URL:https://www.exsa.co.za/event/mamamagic-cape-town/
LOCATION:Cape Town\, Cape Town\, South Africa
END:VEVENT
BEGIN:VEVENT
DTSTART;VALUE=DATE:20231006
DTEND;VALUE=DATE:20231009
DTSTAMP:20260422T130616
CREATED:20230822T081824Z
LAST-MODIFIED:20230822T081824Z
UID:1461-1696550400-1696809599@www.exsa.co.za
SUMMARY:MamaMagic Joburg
DESCRIPTION:
URL:https://www.exsa.co.za/event/mamamagic-joburg/
LOCATION:Johannesburg\, Johannesburg\, South Africa
END:VEVENT
BEGIN:VEVENT
DTSTART;VALUE=DATE:20230912
DTEND;VALUE=DATE:20230914
DTSTAMP:20260422T130616
CREATED:20230822T082226Z
LAST-MODIFIED:20230822T082226Z
UID:1465-1694476800-1694649599@www.exsa.co.za
SUMMARY:DRC Africa Battery Metals Forum
DESCRIPTION:
URL:https://www.exsa.co.za/event/drc-africa-battery-metals-forum/
LOCATION:Kinshasa\, Kinshasa\, Congo\, Democratic Republic of the
END:VEVENT
BEGIN:VEVENT
DTSTART;VALUE=DATE:20230906
DTEND;VALUE=DATE:20230907
DTSTAMP:20260422T130616
CREATED:20230822T082637Z
LAST-MODIFIED:20230822T082637Z
UID:1468-1693958400-1694044799@www.exsa.co.za
SUMMARY:Women in Entertainment Breakfast
DESCRIPTION:
URL:https://www.exsa.co.za/event/women-in-entertainment-breakfast/
LOCATION:Cape Town\, Cape Town\, South Africa
END:VEVENT
BEGIN:VEVENT
DTSTART;VALUE=DATE:20230903
DTEND;VALUE=DATE:20230911
DTSTAMP:20260422T130616
CREATED:20230822T080913Z
LAST-MODIFIED:20230822T080913Z
UID:1454-1693699200-1694390399@www.exsa.co.za
SUMMARY:Muziki Africa
DESCRIPTION:
URL:https://www.exsa.co.za/event/muziki-africa/
LOCATION:Cape Town\, Cape Town\, South Africa
END:VEVENT
BEGIN:VEVENT
DTSTART;VALUE=DATE:20230901
DTEND;VALUE=DATE:20230904
DTSTAMP:20260422T130616
CREATED:20230822T081744Z
LAST-MODIFIED:20230822T081744Z
UID:1459-1693526400-1693785599@www.exsa.co.za
SUMMARY:MamaMagic Durban
DESCRIPTION:
URL:https://www.exsa.co.za/event/mamamagic-durban/
LOCATION:Durban\, Durban\, South Africa
END:VEVENT
BEGIN:VEVENT
DTSTART;VALUE=DATE:20230828
DTEND;VALUE=DATE:20230831
DTSTAMP:20260422T130616
CREATED:20230726T123854Z
LAST-MODIFIED:20230726T123854Z
UID:1176-1693180800-1693439999@www.exsa.co.za
SUMMARY:SAAFoST Biennial Congress & Exhibition
DESCRIPTION:
URL:https://www.exsa.co.za/event/saafost-biennial-congress-exhibition/
LOCATION:Cape Town\, Cape Town\, South Africa
END:VEVENT
BEGIN:VEVENT
DTSTART;TZID=Africa/Johannesburg:20230825T080000
DTEND;TZID=Africa/Johannesburg:20230825T100000
DTSTAMP:20260422T130616
CREATED:20230822T085512Z
LAST-MODIFIED:20230822T085512Z
UID:1475-1692950400-1692957600@www.exsa.co.za
SUMMARY:AAXO Sunrise Session Soweto
DESCRIPTION:
URL:https://www.exsa.co.za/event/aaxo-sunrise-session-soweto/
LOCATION:Soweto\, Johannesburg\, South Africa
END:VEVENT
BEGIN:VEVENT
DTSTART;VALUE=DATE:20230825
DTEND;VALUE=DATE:20230828
DTSTAMP:20260422T130616
CREATED:20230726T123645Z
LAST-MODIFIED:20230726T123645Z
UID:1174-1692921600-1693180799@www.exsa.co.za
SUMMARY:festival of Motoring
DESCRIPTION:
URL:https://www.exsa.co.za/event/festival-of-motoring/
LOCATION:Johannesburg\, Johannesburg\, South Africa
END:VEVENT
BEGIN:VEVENT
DTSTART;TZID=Africa/Johannesburg:20230824T080000
DTEND;TZID=Africa/Johannesburg:20230824T100000
DTSTAMP:20260422T130616
CREATED:20230822T085232Z
LAST-MODIFIED:20230822T085404Z
UID:1470-1692864000-1692871200@www.exsa.co.za
SUMMARY:AAXO Sunrise Session Khayelitsha
DESCRIPTION:
URL:https://www.exsa.co.za/event/aaxo-sunrise-session-khayelitsha/
LOCATION:Khayelitsha\, Cape Town\, South Africa
END:VEVENT
END:VCALENDAR