BEGIN:VCALENDAR
VERSION:2.0
PRODID:-//EXSA - ECPv6.14.2//NONSGML v1.0//EN
CALSCALE:GREGORIAN
METHOD:PUBLISH
X-WR-CALNAME:EXSA
X-ORIGINAL-URL:https://www.exsa.co.za
X-WR-CALDESC:Events for EXSA
REFRESH-INTERVAL;VALUE=DURATION:PT1H
X-Robots-Tag:noindex
X-PUBLISHED-TTL:PT1H
BEGIN:VTIMEZONE
TZID:Africa/Johannesburg
BEGIN:STANDARD
TZOFFSETFROM:+0200
TZOFFSETTO:+0200
TZNAME:SAST
DTSTART:20260101T000000
END:STANDARD
END:VTIMEZONE
BEGIN:VEVENT
DTSTART;TZID=Africa/Johannesburg:20260908T080000
DTEND;TZID=Africa/Johannesburg:20260908T170000
DTSTAMP:20260423T235156
CREATED:20251211T150501Z
LAST-MODIFIED:20251211T150526Z
UID:4864-1788854400-1788886800@www.exsa.co.za
SUMMARY:Seamless Africa - SCC
DESCRIPTION:
URL:https://www.exsa.co.za/event/seamless-africa-scc/
LOCATION:Sandton
END:VEVENT
BEGIN:VEVENT
DTSTART;VALUE=DATE:20260909
DTEND;VALUE=DATE:20260910
DTSTAMP:20260423T235156
CREATED:20251211T150401Z
LAST-MODIFIED:20251211T150401Z
UID:4862-1788912000-1788998399@www.exsa.co.za
SUMMARY:Sales Summit - Montecasino
DESCRIPTION:
URL:https://www.exsa.co.za/event/sales-summit-montecasino/
END:VEVENT
BEGIN:VEVENT
DTSTART;VALUE=DATE:20260916
DTEND;VALUE=DATE:20260921
DTSTAMP:20260423T235156
CREATED:20251211T145852Z
LAST-MODIFIED:20251211T145852Z
UID:4856-1789516800-1789948799@www.exsa.co.za
SUMMARY:AAD Waterkloof Air Force Base/Good life show
DESCRIPTION:
URL:https://www.exsa.co.za/event/aad-waterkloof-air-force-base-good-life-show/
LOCATION:Sandton
END:VEVENT
BEGIN:VEVENT
DTSTART;TZID=Africa/Johannesburg:20260924T080000
DTEND;TZID=Africa/Johannesburg:20260927T170000
DTSTAMP:20260423T235156
CREATED:20251211T104205Z
LAST-MODIFIED:20251211T104205Z
UID:4852-1790236800-1790528400@www.exsa.co.za
SUMMARY:Comic Con Africa - JEC
DESCRIPTION:
URL:https://www.exsa.co.za/event/comic-con-africa-jec/
END:VEVENT
BEGIN:VEVENT
DTSTART;TZID=Africa/Johannesburg:20260928T080000
DTEND;TZID=Africa/Johannesburg:20260929T170000
DTSTAMP:20260423T235156
CREATED:20251211T103909Z
LAST-MODIFIED:20251211T103909Z
UID:4850-1790582400-1790701200@www.exsa.co.za
SUMMARY:Techspo Johannesburg
DESCRIPTION:
URL:https://www.exsa.co.za/event/techspo-johannesburg-2/
END:VEVENT
BEGIN:VEVENT
DTSTART;VALUE=DATE:20261001
DTEND;VALUE=DATE:20261003
DTSTAMP:20260423T235156
CREATED:20251211T093521Z
LAST-MODIFIED:20251211T093521Z
UID:4848-1790812800-1790985599@www.exsa.co.za
SUMMARY:Techspo Cape Town - V& A Waterfront
DESCRIPTION:
URL:https://www.exsa.co.za/event/techspo-cape-town-v-a-waterfront/
END:VEVENT
BEGIN:VEVENT
DTSTART;VALUE=DATE:20261013
DTEND;VALUE=DATE:20261016
DTSTAMP:20260423T235156
CREATED:20251211T093130Z
LAST-MODIFIED:20251211T093130Z
UID:4846-1791849600-1792108799@www.exsa.co.za
SUMMARY:Africa Health
DESCRIPTION:
URL:https://www.exsa.co.za/event/africa-health-2/
LOCATION:CTICC\, Cape Town\, South Africa
END:VEVENT
BEGIN:VEVENT
DTSTART;VALUE=DATE:20261021
DTEND;VALUE=DATE:20261024
DTSTAMP:20260423T235156
CREATED:20251211T092530Z
LAST-MODIFIED:20251211T092530Z
UID:4844-1792540800-1792799999@www.exsa.co.za
SUMMARY:Securex CTICC
DESCRIPTION:
URL:https://www.exsa.co.za/event/securex-cticc/
LOCATION:CTICC\, Cape Town\, South Africa
END:VEVENT
BEGIN:VEVENT
DTSTART;VALUE=DATE:20261028
DTEND;VALUE=DATE:20261102
DTSTAMP:20260423T235156
CREATED:20251211T092400Z
LAST-MODIFIED:20251211T092400Z
UID:4842-1793145600-1793577599@www.exsa.co.za
SUMMARY:Fame Week Africa - CTICC
DESCRIPTION:
URL:https://www.exsa.co.za/event/fame-week-africa-cticc/
LOCATION:CTICC\, Cape Town\, South Africa
END:VEVENT
BEGIN:VEVENT
DTSTART;VALUE=DATE:20261104
DTEND;VALUE=DATE:20261106
DTSTAMP:20260423T235156
CREATED:20251211T092315Z
LAST-MODIFIED:20251211T092315Z
UID:4840-1793750400-1793923199@www.exsa.co.za
SUMMARY:Critical Care Congress - Cape Town.
DESCRIPTION:
URL:https://www.exsa.co.za/event/critical-care-congress-cape-town/
LOCATION:Cape Town\, Cape Town\, South Africa
END:VEVENT
END:VCALENDAR