BEGIN:VCALENDAR
VERSION:2.0
PRODID:-//EXSA - ECPv6.14.2//NONSGML v1.0//EN
CALSCALE:GREGORIAN
METHOD:PUBLISH
X-ORIGINAL-URL:https://www.exsa.co.za
X-WR-CALDESC:Events for EXSA
REFRESH-INTERVAL;VALUE=DURATION:PT1H
X-Robots-Tag:noindex
X-PUBLISHED-TTL:PT1H
BEGIN:VTIMEZONE
TZID:Africa/Johannesburg
BEGIN:STANDARD
TZOFFSETFROM:+0200
TZOFFSETTO:+0200
TZNAME:SAST
DTSTART:20230101T000000
END:STANDARD
END:VTIMEZONE
BEGIN:VEVENT
DTSTART;VALUE=DATE:20230901
DTEND;VALUE=DATE:20230904
DTSTAMP:20260424T053544
CREATED:20230822T081744Z
LAST-MODIFIED:20230822T081744Z
UID:1459-1693526400-1693785599@www.exsa.co.za
SUMMARY:MamaMagic Durban
DESCRIPTION:
URL:https://www.exsa.co.za/event/mamamagic-durban/
LOCATION:Durban\, Durban\, South Africa
END:VEVENT
BEGIN:VEVENT
DTSTART;VALUE=DATE:20230903
DTEND;VALUE=DATE:20230911
DTSTAMP:20260424T053544
CREATED:20230822T080913Z
LAST-MODIFIED:20230822T080913Z
UID:1454-1693699200-1694390399@www.exsa.co.za
SUMMARY:Muziki Africa
DESCRIPTION:
URL:https://www.exsa.co.za/event/muziki-africa/
LOCATION:Cape Town\, Cape Town\, South Africa
END:VEVENT
BEGIN:VEVENT
DTSTART;VALUE=DATE:20230906
DTEND;VALUE=DATE:20230907
DTSTAMP:20260424T053544
CREATED:20230822T082637Z
LAST-MODIFIED:20230822T082637Z
UID:1468-1693958400-1694044799@www.exsa.co.za
SUMMARY:Women in Entertainment Breakfast
DESCRIPTION:
URL:https://www.exsa.co.za/event/women-in-entertainment-breakfast/
LOCATION:Cape Town\, Cape Town\, South Africa
END:VEVENT
BEGIN:VEVENT
DTSTART;VALUE=DATE:20230912
DTEND;VALUE=DATE:20230914
DTSTAMP:20260424T053544
CREATED:20230822T082226Z
LAST-MODIFIED:20230822T082226Z
UID:1465-1694476800-1694649599@www.exsa.co.za
SUMMARY:DRC Africa Battery Metals Forum
DESCRIPTION:
URL:https://www.exsa.co.za/event/drc-africa-battery-metals-forum/
LOCATION:Kinshasa\, Kinshasa\, Congo\, Democratic Republic of the
END:VEVENT
END:VCALENDAR