BEGIN:VCALENDAR
VERSION:2.0
PRODID:-//EXSA - ECPv6.14.2//NONSGML v1.0//EN
CALSCALE:GREGORIAN
METHOD:PUBLISH
X-ORIGINAL-URL:https://www.exsa.co.za
X-WR-CALDESC:Events for EXSA
REFRESH-INTERVAL;VALUE=DURATION:PT1H
X-Robots-Tag:noindex
X-PUBLISHED-TTL:PT1H
BEGIN:VTIMEZONE
TZID:Africa/Johannesburg
BEGIN:STANDARD
TZOFFSETFROM:+0200
TZOFFSETTO:+0200
TZNAME:SAST
DTSTART:20230101T000000
END:STANDARD
END:VTIMEZONE
BEGIN:VEVENT
DTSTART;VALUE=DATE:20231006
DTEND;VALUE=DATE:20231009
DTSTAMP:20260419T005627
CREATED:20230822T081824Z
LAST-MODIFIED:20230822T081824Z
UID:1461-1696550400-1696809599@www.exsa.co.za
SUMMARY:MamaMagic Joburg
DESCRIPTION:
URL:https://www.exsa.co.za/event/mamamagic-joburg/
LOCATION:Johannesburg\, Johannesburg\, South Africa
END:VEVENT
END:VCALENDAR