BEGIN:VCALENDAR
VERSION:2.0
PRODID:-//EXSA - ECPv6.14.2//NONSGML v1.0//EN
CALSCALE:GREGORIAN
METHOD:PUBLISH
X-ORIGINAL-URL:https://www.exsa.co.za
X-WR-CALDESC:Events for EXSA
REFRESH-INTERVAL;VALUE=DURATION:PT1H
X-Robots-Tag:noindex
X-PUBLISHED-TTL:PT1H
BEGIN:VTIMEZONE
TZID:Africa/Johannesburg
BEGIN:STANDARD
TZOFFSETFROM:+0200
TZOFFSETTO:+0200
TZNAME:SAST
DTSTART:20250101T000000
END:STANDARD
END:VTIMEZONE
BEGIN:VEVENT
DTSTART;VALUE=DATE:20250629
DTEND;VALUE=DATE:20250708
DTSTAMP:20260419T005753
CREATED:20250318T075124Z
LAST-MODIFIED:20250318T075124Z
UID:3942-1751155200-1751932799@www.exsa.co.za
SUMMARY:House + Garden Show
DESCRIPTION:
URL:https://www.exsa.co.za/event/house-garden-show/
LOCATION:Durban\, Durban\, South Africa
END:VEVENT
BEGIN:VEVENT
DTSTART;VALUE=DATE:20250703
DTEND;VALUE=DATE:20250706
DTSTAMP:20260419T005753
CREATED:20250307T080757Z
LAST-MODIFIED:20250307T080757Z
UID:3734-1751500800-1751759999@www.exsa.co.za
SUMMARY:WCTE 2025
DESCRIPTION:
URL:https://www.exsa.co.za/event/wcte-2025/
LOCATION:Cape Town\, Cape Town\, South Africa
END:VEVENT
BEGIN:VEVENT
DTSTART;VALUE=DATE:20250704
DTEND;VALUE=DATE:20250714
DTSTAMP:20260419T005753
CREATED:20250318T080343Z
LAST-MODIFIED:20250318T080343Z
UID:3948-1751587200-1752451199@www.exsa.co.za
SUMMARY:Knysna OsterFestival
DESCRIPTION:
URL:https://www.exsa.co.za/event/knysna-osterfestival/
LOCATION:Knysna\, South Africa
END:VEVENT
BEGIN:VEVENT
DTSTART;VALUE=DATE:20250708
DTEND;VALUE=DATE:20250711
DTSTAMP:20260419T005753
CREATED:20250307T080846Z
LAST-MODIFIED:20250307T080846Z
UID:3736-1751932800-1752191999@www.exsa.co.za
SUMMARY:IFAT / Lab Africa 2025
DESCRIPTION:
URL:https://www.exsa.co.za/event/ifat-lab-africa-2025/
LOCATION:Johannesburg\, Johannesburg\, South Africa
END:VEVENT
BEGIN:VEVENT
DTSTART;VALUE=DATE:20250708
DTEND;VALUE=DATE:20250711
DTSTAMP:20260419T005753
CREATED:20250318T081004Z
LAST-MODIFIED:20250318T081004Z
UID:3951-1751932800-1752191999@www.exsa.co.za
SUMMARY:All Fashion sourcing
DESCRIPTION:
URL:https://www.exsa.co.za/event/all-fashion-sourcing/
LOCATION:CTICC\, Cape Town\, South Africa
END:VEVENT
BEGIN:VEVENT
DTSTART;VALUE=DATE:20250708
DTEND;VALUE=DATE:20250711
DTSTAMP:20260419T005753
CREATED:20250318T081229Z
LAST-MODIFIED:20250318T081229Z
UID:3953-1751932800-1752191999@www.exsa.co.za
SUMMARY:Analytica Lab Africa 2025
DESCRIPTION:
URL:https://www.exsa.co.za/event/analytica-lab-africa-2025/
LOCATION:Gallagher\, South Africa
END:VEVENT
BEGIN:VEVENT
DTSTART;TZID=Africa/Johannesburg:20250715T080000
DTEND;TZID=Africa/Johannesburg:20250716T170000
DTSTAMP:20260419T005753
CREATED:20250307T080956Z
LAST-MODIFIED:20250307T080956Z
UID:3738-1752566400-1752685200@www.exsa.co.za
SUMMARY:Manufacturing Indaba
DESCRIPTION:
URL:https://www.exsa.co.za/event/manufacturing-indaba/
LOCATION:Sandton
END:VEVENT
BEGIN:VEVENT
DTSTART;VALUE=DATE:20250716
DTEND;VALUE=DATE:20250719
DTSTAMP:20260419T005753
CREATED:20250318T082643Z
LAST-MODIFIED:20250318T082643Z
UID:3972-1752624000-1752883199@www.exsa.co.za
SUMMARY:PharmHealth South Africa Exhibition 2025
DESCRIPTION:
URL:https://www.exsa.co.za/event/pharmhealth-south-africa-exhibition-2025/
LOCATION:Johannesburg\, Johannesburg\, South Africa
END:VEVENT
BEGIN:VEVENT
DTSTART;VALUE=DATE:20250716
DTEND;VALUE=DATE:20250719
DTSTAMP:20260419T005753
CREATED:20250318T082717Z
LAST-MODIFIED:20250318T082717Z
UID:3974-1752624000-1752883199@www.exsa.co.za
SUMMARY:Food Show Africa
DESCRIPTION:
URL:https://www.exsa.co.za/event/food-show-africa/
LOCATION:Gallagher\, South Africa
END:VEVENT
BEGIN:VEVENT
DTSTART;VALUE=DATE:20250719
DTEND;VALUE=DATE:20250721
DTSTAMP:20260419T005753
CREATED:20250307T081031Z
LAST-MODIFIED:20250307T081031Z
UID:3740-1752883200-1753055999@www.exsa.co.za
SUMMARY:2025 GMPP Symposium
DESCRIPTION:
URL:https://www.exsa.co.za/event/2025-gmpp-symposium/
LOCATION:Kempton Park
END:VEVENT
BEGIN:VEVENT
DTSTART;VALUE=DATE:20250720
DTEND;VALUE=DATE:20250731
DTSTAMP:20260419T005753
CREATED:20250307T081117Z
LAST-MODIFIED:20250307T081117Z
UID:3742-1752969600-1753919999@www.exsa.co.za
SUMMARY:DIFF - Durban International Film Festival
DESCRIPTION:
URL:https://www.exsa.co.za/event/diff-durban-international-film-festival/
LOCATION:Durban\, Durban\, South Africa
END:VEVENT
BEGIN:VEVENT
DTSTART;VALUE=DATE:20250722
DTEND;VALUE=DATE:20250725
DTSTAMP:20260419T005753
CREATED:20250307T081352Z
LAST-MODIFIED:20250307T081352Z
UID:3744-1753142400-1753401599@www.exsa.co.za
SUMMARY:KZN Industrial Technology Exhibition (KITE)
DESCRIPTION:
URL:https://www.exsa.co.za/event/kzn-industrial-technology-exhibition-kite/
LOCATION:Durban\, Durban\, South Africa
END:VEVENT
BEGIN:VEVENT
DTSTART;VALUE=DATE:20250724
DTEND;VALUE=DATE:20250728
DTSTAMP:20260419T005753
CREATED:20250307T081442Z
LAST-MODIFIED:20250307T081442Z
UID:3746-1753315200-1753660799@www.exsa.co.za
SUMMARY:Decorex 2025
DESCRIPTION:
URL:https://www.exsa.co.za/event/decorex-2025-2/
LOCATION:Johannesburg\, Johannesburg\, South Africa
END:VEVENT
BEGIN:VEVENT
DTSTART;VALUE=DATE:20250724
DTEND;VALUE=DATE:20250728
DTSTAMP:20260419T005753
CREATED:20250318T082451Z
LAST-MODIFIED:20250318T082451Z
UID:3970-1753315200-1753660799@www.exsa.co.za
SUMMARY:100% Design South Africa
DESCRIPTION:
URL:https://www.exsa.co.za/event/100-design-south-africa/
LOCATION:Johannesburg\, Johannesburg\, South Africa
END:VEVENT
BEGIN:VEVENT
DTSTART;VALUE=DATE:20250725
DTEND;VALUE=DATE:20250728
DTSTAMP:20260419T005753
CREATED:20250307T081541Z
LAST-MODIFIED:20250307T081541Z
UID:3748-1753401600-1753660799@www.exsa.co.za
SUMMARY:SADA
DESCRIPTION:
URL:https://www.exsa.co.za/event/sada/
LOCATION:Durban\, Durban\, South Africa
END:VEVENT
BEGIN:VEVENT
DTSTART;VALUE=DATE:20250729
DTEND;VALUE=DATE:20250731
DTSTAMP:20260419T005753
CREATED:20250318T082340Z
LAST-MODIFIED:20250318T082340Z
UID:3968-1753747200-1753919999@www.exsa.co.za
SUMMARY:Scale Africa
DESCRIPTION:
URL:https://www.exsa.co.za/event/scale-africa/
LOCATION:Cape Town\, Cape Town\, South Africa
END:VEVENT
END:VCALENDAR