BEGIN:VCALENDAR
VERSION:2.0
PRODID:-//EXSA - ECPv6.14.2//NONSGML v1.0//EN
CALSCALE:GREGORIAN
METHOD:PUBLISH
X-WR-CALNAME:EXSA
X-ORIGINAL-URL:https://www.exsa.co.za
X-WR-CALDESC:Events for EXSA
REFRESH-INTERVAL;VALUE=DURATION:PT1H
X-Robots-Tag:noindex
X-PUBLISHED-TTL:PT1H
BEGIN:VTIMEZONE
TZID:Africa/Johannesburg
BEGIN:STANDARD
TZOFFSETFROM:+0200
TZOFFSETTO:+0200
TZNAME:SAST
DTSTART:20250101T000000
END:STANDARD
END:VTIMEZONE
BEGIN:VEVENT
DTSTART;VALUE=DATE:20250828
DTEND;VALUE=DATE:20250904
DTSTAMP:20260417T113145
CREATED:20250318T081443Z
LAST-MODIFIED:20250318T081443Z
UID:3955-1756339200-1756943999@www.exsa.co.za
SUMMARY:FACIM - Mozambique
DESCRIPTION:
URL:https://www.exsa.co.za/event/facim-mozambique/
LOCATION:mozambique\, Mozambique
END:VEVENT
BEGIN:VEVENT
DTSTART;VALUE=DATE:20250901
DTEND;VALUE=DATE:20250904
DTSTAMP:20260417T113145
CREATED:20250307T085641Z
LAST-MODIFIED:20250307T085641Z
UID:3768-1756684800-1756943999@www.exsa.co.za
SUMMARY:SEMC 2025
DESCRIPTION:
URL:https://www.exsa.co.za/event/semc-2025/
LOCATION:Cape Town\, Cape Town\, South Africa
END:VEVENT
BEGIN:VEVENT
DTSTART;VALUE=DATE:20250901
DTEND;VALUE=DATE:20250904
DTSTAMP:20260417T113145
CREATED:20250318T083421Z
LAST-MODIFIED:20250318T083421Z
UID:3990-1756684800-1756943999@www.exsa.co.za
SUMMARY:MIP Africa
DESCRIPTION:
URL:https://www.exsa.co.za/event/mip-africa/
LOCATION:Cape Town\, Cape Town\, South Africa
END:VEVENT
BEGIN:VEVENT
DTSTART;VALUE=DATE:20250901
DTEND;VALUE=DATE:20250907
DTSTAMP:20260417T113145
CREATED:20250307T085748Z
LAST-MODIFIED:20250307T085748Z
UID:3770-1756684800-1757203199@www.exsa.co.za
SUMMARY:CTIAF 2025 (as part of Fame Week)
DESCRIPTION:
URL:https://www.exsa.co.za/event/ctiaf-2025-as-part-of-fame-week/
LOCATION:CTICC\, Cape Town\, South Africa
END:VEVENT
BEGIN:VEVENT
DTSTART;VALUE=DATE:20250901
DTEND;VALUE=DATE:20250907
DTSTAMP:20260417T113145
CREATED:20250318T083205Z
LAST-MODIFIED:20250318T083205Z
UID:3986-1756684800-1757203199@www.exsa.co.za
SUMMARY:Cape Town International Animation Festival
DESCRIPTION:
URL:https://www.exsa.co.za/event/cape-town-international-animation-festival/
LOCATION:CTICC\, Cape Town\, South Africa
END:VEVENT
BEGIN:VEVENT
DTSTART;VALUE=DATE:20250901
DTEND;VALUE=DATE:20250907
DTSTAMP:20260417T113145
CREATED:20250318T083331Z
LAST-MODIFIED:20250318T083331Z
UID:3988-1756684800-1757203199@www.exsa.co.za
SUMMARY:Fame Week Africa
DESCRIPTION:
URL:https://www.exsa.co.za/event/fame-week-africa/
LOCATION:CTICC\, Cape Town\, South Africa
END:VEVENT
BEGIN:VEVENT
DTSTART;VALUE=DATE:20250902
DTEND;VALUE=DATE:20250905
DTSTAMP:20260417T113145
CREATED:20250307T085848Z
LAST-MODIFIED:20250307T085848Z
UID:3772-1756771200-1757030399@www.exsa.co.za
SUMMARY:Africa Health Exhibition 2025
DESCRIPTION:
URL:https://www.exsa.co.za/event/africa-health-exhibition-2025/
LOCATION:CTICC\, Cape Town\, South Africa
END:VEVENT
BEGIN:VEVENT
DTSTART;VALUE=DATE:20250903
DTEND;VALUE=DATE:20250905
DTSTAMP:20260417T113145
CREATED:20250307T090311Z
LAST-MODIFIED:20250307T090311Z
UID:3774-1756857600-1757030399@www.exsa.co.za
SUMMARY:The Business Show Africa 2025
DESCRIPTION:
URL:https://www.exsa.co.za/event/the-business-show-africa-2025/
LOCATION:Johannesburg\, Johannesburg\, South Africa
END:VEVENT
BEGIN:VEVENT
DTSTART;VALUE=DATE:20250908
DTEND;VALUE=DATE:20250910
DTSTAMP:20260417T113145
CREATED:20250318T083458Z
LAST-MODIFIED:20250318T083458Z
UID:3992-1757289600-1757462399@www.exsa.co.za
SUMMARY:SEAMLESS AFRICA
DESCRIPTION:
URL:https://www.exsa.co.za/event/seamless-africa/
LOCATION:Johannesburg\, Johannesburg\, South Africa
END:VEVENT
BEGIN:VEVENT
DTSTART;VALUE=DATE:20250909
DTEND;VALUE=DATE:20250912
DTSTAMP:20260417T113145
CREATED:20250307T090702Z
LAST-MODIFIED:20250307T090702Z
UID:3778-1757376000-1757635199@www.exsa.co.za
SUMMARY:Sign Africa 2025
DESCRIPTION:
URL:https://www.exsa.co.za/event/sign-africa-2025-2/
LOCATION:Johannesburg\, Johannesburg\, South Africa
END:VEVENT
BEGIN:VEVENT
DTSTART;VALUE=DATE:20250909
DTEND;VALUE=DATE:20250912
DTSTAMP:20260417T113145
CREATED:20250318T083536Z
LAST-MODIFIED:20250318T083536Z
UID:3994-1757376000-1757635199@www.exsa.co.za
SUMMARY:Modern Marketing Expo 2025
DESCRIPTION:
URL:https://www.exsa.co.za/event/modern-marketing-expo-2025/
LOCATION:Johannesburg\, Johannesburg\, South Africa
END:VEVENT
BEGIN:VEVENT
DTSTART;VALUE=DATE:20250909
DTEND;VALUE=DATE:20250913
DTSTAMP:20260417T113145
CREATED:20250307T090529Z
LAST-MODIFIED:20250307T090529Z
UID:3776-1757376000-1757721599@www.exsa.co.za
SUMMARY:International Federation of Ageing Conference (IFA)
DESCRIPTION:
URL:https://www.exsa.co.za/event/international-federation-of-ageing-conference-ifa/
LOCATION:CTICC\, Cape Town\, South Africa
END:VEVENT
BEGIN:VEVENT
DTSTART;VALUE=DATE:20250910
DTEND;VALUE=DATE:20250913
DTSTAMP:20260417T113145
CREATED:20250307T091219Z
LAST-MODIFIED:20250307T091219Z
UID:3780-1757462400-1757721599@www.exsa.co.za
SUMMARY:All Fashion Sourcing Africa
DESCRIPTION:
URL:https://www.exsa.co.za/event/all-fashion-sourcing-africa/
LOCATION:Cape Town\, Cape Town\, South Africa
END:VEVENT
BEGIN:VEVENT
DTSTART;VALUE=DATE:20250910
DTEND;VALUE=DATE:20250914
DTSTAMP:20260417T113145
CREATED:20250318T083612Z
LAST-MODIFIED:20250318T083612Z
UID:3996-1757462400-1757807999@www.exsa.co.za
SUMMARY:Nampo Cape
DESCRIPTION:
URL:https://www.exsa.co.za/event/nampo-cape-2/
LOCATION:Cape Town\, Cape Town\, South Africa
END:VEVENT
BEGIN:VEVENT
DTSTART;VALUE=DATE:20250912
DTEND;VALUE=DATE:20250915
DTSTAMP:20260417T113145
CREATED:20250307T091324Z
LAST-MODIFIED:20250307T091324Z
UID:3782-1757635200-1757894399@www.exsa.co.za
SUMMARY:SACO 2025
DESCRIPTION:
URL:https://www.exsa.co.za/event/saco-2025/
LOCATION:Johannesburg\, Johannesburg\, South Africa
END:VEVENT
BEGIN:VEVENT
DTSTART;VALUE=DATE:20250915
DTEND;VALUE=DATE:20250920
DTSTAMP:20260417T113145
CREATED:20250307T091512Z
LAST-MODIFIED:20250307T091512Z
UID:3786-1757894400-1758326399@www.exsa.co.za
SUMMARY:Africa Oil Week (AOW)
DESCRIPTION:
URL:https://www.exsa.co.za/event/africa-oil-week-aow/
LOCATION:Ghana\, Ghana
END:VEVENT
BEGIN:VEVENT
DTSTART;VALUE=DATE:20250918
DTEND;VALUE=DATE:20250920
DTSTAMP:20260417T113145
CREATED:20250307T091426Z
LAST-MODIFIED:20250307T091426Z
UID:3784-1758153600-1758326399@www.exsa.co.za
SUMMARY:API Summit
DESCRIPTION:
URL:https://www.exsa.co.za/event/api-summit/
LOCATION:Cape Town\, Cape Town\, South Africa
END:VEVENT
BEGIN:VEVENT
DTSTART;VALUE=DATE:20250923
DTEND;VALUE=DATE:20250926
DTSTAMP:20260417T113145
CREATED:20250318T083648Z
LAST-MODIFIED:20250318T083648Z
UID:3998-1758585600-1758844799@www.exsa.co.za
SUMMARY:China Homelife Fair South Africa 2025
DESCRIPTION:
URL:https://www.exsa.co.za/event/china-homelife-fair-south-africa-2025/
LOCATION:Gallagher\, South Africa
END:VEVENT
BEGIN:VEVENT
DTSTART;VALUE=DATE:20250925
DTEND;VALUE=DATE:20250929
DTSTAMP:20260417T113145
CREATED:20250307T100321Z
LAST-MODIFIED:20250307T100321Z
UID:3789-1758758400-1759103999@www.exsa.co.za
SUMMARY:Comic Con Africa 2025
DESCRIPTION:
URL:https://www.exsa.co.za/event/comic-con-africa-2025/
LOCATION:Johannesburg\, Johannesburg\, South Africa
END:VEVENT
BEGIN:VEVENT
DTSTART;VALUE=DATE:20250926
DTEND;VALUE=DATE:20250929
DTSTAMP:20260417T113145
CREATED:20250318T083727Z
LAST-MODIFIED:20250318T083727Z
UID:4000-1758844800-1759103999@www.exsa.co.za
SUMMARY:Township and Village Tourism Expo
DESCRIPTION:
URL:https://www.exsa.co.za/event/township-and-village-tourism-expo/
LOCATION:Mpumalanga
END:VEVENT
BEGIN:VEVENT
DTSTART;VALUE=DATE:20250929
DTEND;VALUE=DATE:20251004
DTSTAMP:20260417T113145
CREATED:20250307T133342Z
LAST-MODIFIED:20250307T133342Z
UID:3791-1759104000-1759535999@www.exsa.co.za
SUMMARY:Africa Energy Week 2025
DESCRIPTION:
URL:https://www.exsa.co.za/event/africa-energy-week-2025/
LOCATION:CTICC\, Cape Town\, South Africa
END:VEVENT
BEGIN:VEVENT
DTSTART;VALUE=DATE:20250930
DTEND;VALUE=DATE:20251003
DTSTAMP:20260417T113145
CREATED:20250318T083757Z
LAST-MODIFIED:20250318T083757Z
UID:4002-1759190400-1759449599@www.exsa.co.za
SUMMARY:SAPOA Annual Convention 2025
DESCRIPTION:
URL:https://www.exsa.co.za/event/sapoa-annual-convention-2025/
LOCATION:SunCity
END:VEVENT
END:VCALENDAR