BEGIN:VCALENDAR
VERSION:2.0
PRODID:-//EXSA - ECPv6.14.2//NONSGML v1.0//EN
CALSCALE:GREGORIAN
METHOD:PUBLISH
X-ORIGINAL-URL:https://www.exsa.co.za
X-WR-CALDESC:Events for EXSA
REFRESH-INTERVAL;VALUE=DURATION:PT1H
X-Robots-Tag:noindex
X-PUBLISHED-TTL:PT1H
BEGIN:VTIMEZONE
TZID:Africa/Johannesburg
BEGIN:STANDARD
TZOFFSETFROM:+0200
TZOFFSETTO:+0200
TZNAME:SAST
DTSTART:20250101T000000
END:STANDARD
END:VTIMEZONE
BEGIN:VEVENT
DTSTART;TZID=Africa/Johannesburg:20251111T080000
DTEND;TZID=Africa/Johannesburg:20251113T170000
DTSTAMP:20260413T193526
CREATED:20250307T074744Z
LAST-MODIFIED:20250307T074744Z
UID:3699-1762848000-1763053200@www.exsa.co.za
SUMMARY:Africacom
DESCRIPTION:
URL:https://www.exsa.co.za/event/africacom/
LOCATION:CTICC\, Cape Town\, South Africa
END:VEVENT
BEGIN:VEVENT
DTSTART;VALUE=DATE:20251117
DTEND;VALUE=DATE:20251121
DTSTAMP:20260413T193526
CREATED:20250310T103814Z
LAST-MODIFIED:20250310T103814Z
UID:3832-1763337600-1763683199@www.exsa.co.za
SUMMARY:Flotation 2025
DESCRIPTION:
URL:https://www.exsa.co.za/event/flotation-2025/
LOCATION:Cape Town\, Cape Town\, South Africa
END:VEVENT
BEGIN:VEVENT
DTSTART;VALUE=DATE:20251122
DTEND;VALUE=DATE:20251126
DTSTAMP:20260413T193526
CREATED:20250318T071030Z
LAST-MODIFIED:20250318T071030Z
UID:3919-1763769600-1764115199@www.exsa.co.za
SUMMARY:African Agri Investment Indaba 2025
DESCRIPTION:
URL:https://www.exsa.co.za/event/african-agri-investment-indaba-2025/
LOCATION:Cape Town\, Cape Town\, South Africa
END:VEVENT
END:VCALENDAR